BEGIN:VCALENDAR
VERSION:2.0
PRODID:-//White Squirrel Golf Club &amp; Restaurant | Zurich, Ontario - ECPv6.15.17.1//NONSGML v1.0//EN
CALSCALE:GREGORIAN
METHOD:PUBLISH
X-WR-CALNAME:White Squirrel Golf Club &amp; Restaurant | Zurich, Ontario
X-ORIGINAL-URL:https://whitesquirrelgolfclub.com
X-WR-CALDESC:Events for White Squirrel Golf Club &amp; Restaurant | Zurich, Ontario
REFRESH-INTERVAL;VALUE=DURATION:PT1H
X-Robots-Tag:noindex
X-PUBLISHED-TTL:PT1H
BEGIN:VTIMEZONE
TZID:America/Toronto
BEGIN:DAYLIGHT
TZOFFSETFROM:-0500
TZOFFSETTO:-0400
TZNAME:EDT
DTSTART:20230312T070000
END:DAYLIGHT
BEGIN:STANDARD
TZOFFSETFROM:-0400
TZOFFSETTO:-0500
TZNAME:EST
DTSTART:20231105T060000
END:STANDARD
BEGIN:DAYLIGHT
TZOFFSETFROM:-0500
TZOFFSETTO:-0400
TZNAME:EDT
DTSTART:20240310T070000
END:DAYLIGHT
BEGIN:STANDARD
TZOFFSETFROM:-0400
TZOFFSETTO:-0500
TZNAME:EST
DTSTART:20241103T060000
END:STANDARD
BEGIN:DAYLIGHT
TZOFFSETFROM:-0500
TZOFFSETTO:-0400
TZNAME:EDT
DTSTART:20250309T070000
END:DAYLIGHT
BEGIN:STANDARD
TZOFFSETFROM:-0400
TZOFFSETTO:-0500
TZNAME:EST
DTSTART:20251102T060000
END:STANDARD
END:VTIMEZONE
BEGIN:VEVENT
DTSTART;TZID=America/Toronto:20240330T180000
DTEND;TZID=America/Toronto:20240330T210000
DTSTAMP:20260424T161306
CREATED:20231124T201229Z
LAST-MODIFIED:20241104T213205Z
UID:10001433-1711821600-1711832400@whitesquirrelgolfclub.com
SUMMARY:Live Music Every Saturday Night
DESCRIPTION:
URL:https://whitesquirrelgolfclub.com/event/live-music-every-saturday-night/2024-03-30/
END:VEVENT
BEGIN:VEVENT
DTSTART;TZID=America/Toronto:20240329T120000
DTEND;TZID=America/Toronto:20240329T200000
DTSTAMP:20260424T161306
CREATED:20231124T201842Z
LAST-MODIFIED:20251211T194455Z
UID:10003082-1711713600-1711742400@whitesquirrelgolfclub.com
SUMMARY:Fish & Chips Friday
DESCRIPTION:Dine-In Only\, enjoy our Fish & Chips on special\, 1 pc/ $16 | 2/pc $22
URL:https://whitesquirrelgolfclub.com/event/fish-chips-friday/2024-03-29/
END:VEVENT
BEGIN:VEVENT
DTSTART;TZID=America/Toronto:20240328T180000
DTEND;TZID=America/Toronto:20240328T210000
DTSTAMP:20260424T161306
CREATED:20231124T201038Z
LAST-MODIFIED:20251211T193538Z
UID:10001042-1711648800-1711659600@whitesquirrelgolfclub.com
SUMMARY:Wing Night & Jam Session with Dustin SkySmith
DESCRIPTION:Join us every Thursday night with Dustin SkySmith! \nWing Special: $10 1LB | $20 2LBS \n 
URL:https://whitesquirrelgolfclub.com/event/wing-night-jam-session-with-dustin-skysmith/2024-03-28/
END:VEVENT
BEGIN:VEVENT
DTSTART;TZID=America/Toronto:20240323T180000
DTEND;TZID=America/Toronto:20240323T210000
DTSTAMP:20260424T161306
CREATED:20231124T201229Z
LAST-MODIFIED:20241104T213205Z
UID:10001432-1711216800-1711227600@whitesquirrelgolfclub.com
SUMMARY:Live Music Every Saturday Night
DESCRIPTION:
URL:https://whitesquirrelgolfclub.com/event/live-music-every-saturday-night/2024-03-23/
END:VEVENT
BEGIN:VEVENT
DTSTART;TZID=America/Toronto:20240322T120000
DTEND;TZID=America/Toronto:20240322T200000
DTSTAMP:20260424T161306
CREATED:20231124T201842Z
LAST-MODIFIED:20251211T194455Z
UID:10003081-1711108800-1711137600@whitesquirrelgolfclub.com
SUMMARY:Fish & Chips Friday
DESCRIPTION:Dine-In Only\, enjoy our Fish & Chips on special\, 1 pc/ $16 | 2/pc $22
URL:https://whitesquirrelgolfclub.com/event/fish-chips-friday/2024-03-22/
END:VEVENT
BEGIN:VEVENT
DTSTART;TZID=America/Toronto:20240321T180000
DTEND;TZID=America/Toronto:20240321T210000
DTSTAMP:20260424T161306
CREATED:20231124T201038Z
LAST-MODIFIED:20251211T193538Z
UID:10001041-1711044000-1711054800@whitesquirrelgolfclub.com
SUMMARY:Wing Night & Jam Session with Dustin SkySmith
DESCRIPTION:Join us every Thursday night with Dustin SkySmith! \nWing Special: $10 1LB | $20 2LBS \n 
URL:https://whitesquirrelgolfclub.com/event/wing-night-jam-session-with-dustin-skysmith/2024-03-21/
END:VEVENT
BEGIN:VEVENT
DTSTART;TZID=America/Toronto:20240316T180000
DTEND;TZID=America/Toronto:20240316T210000
DTSTAMP:20260424T161306
CREATED:20231124T201229Z
LAST-MODIFIED:20241104T213205Z
UID:10001431-1710612000-1710622800@whitesquirrelgolfclub.com
SUMMARY:Live Music Every Saturday Night
DESCRIPTION:
URL:https://whitesquirrelgolfclub.com/event/live-music-every-saturday-night/2024-03-16/
END:VEVENT
BEGIN:VEVENT
DTSTART;TZID=America/Toronto:20240315T120000
DTEND;TZID=America/Toronto:20240315T200000
DTSTAMP:20260424T161306
CREATED:20231124T201842Z
LAST-MODIFIED:20251211T194455Z
UID:10003080-1710504000-1710532800@whitesquirrelgolfclub.com
SUMMARY:Fish & Chips Friday
DESCRIPTION:Dine-In Only\, enjoy our Fish & Chips on special\, 1 pc/ $16 | 2/pc $22
URL:https://whitesquirrelgolfclub.com/event/fish-chips-friday/2024-03-15/
END:VEVENT
BEGIN:VEVENT
DTSTART;TZID=America/Toronto:20240314T180000
DTEND;TZID=America/Toronto:20240314T210000
DTSTAMP:20260424T161306
CREATED:20231124T201038Z
LAST-MODIFIED:20251211T193538Z
UID:10001040-1710439200-1710450000@whitesquirrelgolfclub.com
SUMMARY:Wing Night & Jam Session with Dustin SkySmith
DESCRIPTION:Join us every Thursday night with Dustin SkySmith! \nWing Special: $10 1LB | $20 2LBS \n 
URL:https://whitesquirrelgolfclub.com/event/wing-night-jam-session-with-dustin-skysmith/2024-03-14/
END:VEVENT
BEGIN:VEVENT
DTSTART;TZID=America/Toronto:20240309T180000
DTEND;TZID=America/Toronto:20240309T210000
DTSTAMP:20260424T161306
CREATED:20231124T201229Z
LAST-MODIFIED:20241104T213205Z
UID:10001430-1710007200-1710018000@whitesquirrelgolfclub.com
SUMMARY:Live Music Every Saturday Night
DESCRIPTION:
URL:https://whitesquirrelgolfclub.com/event/live-music-every-saturday-night/2024-03-09/
END:VEVENT
BEGIN:VEVENT
DTSTART;TZID=America/Toronto:20240308T120000
DTEND;TZID=America/Toronto:20240308T200000
DTSTAMP:20260424T161306
CREATED:20231124T201842Z
LAST-MODIFIED:20251211T194455Z
UID:10003079-1709899200-1709928000@whitesquirrelgolfclub.com
SUMMARY:Fish & Chips Friday
DESCRIPTION:Dine-In Only\, enjoy our Fish & Chips on special\, 1 pc/ $16 | 2/pc $22
URL:https://whitesquirrelgolfclub.com/event/fish-chips-friday/2024-03-08/
END:VEVENT
BEGIN:VEVENT
DTSTART;TZID=America/Toronto:20240307T180000
DTEND;TZID=America/Toronto:20240307T210000
DTSTAMP:20260424T161306
CREATED:20231124T201038Z
LAST-MODIFIED:20251211T193538Z
UID:10001039-1709834400-1709845200@whitesquirrelgolfclub.com
SUMMARY:Wing Night & Jam Session with Dustin SkySmith
DESCRIPTION:Join us every Thursday night with Dustin SkySmith! \nWing Special: $10 1LB | $20 2LBS \n 
URL:https://whitesquirrelgolfclub.com/event/wing-night-jam-session-with-dustin-skysmith/2024-03-07/
END:VEVENT
BEGIN:VEVENT
DTSTART;TZID=America/Toronto:20240302T180000
DTEND;TZID=America/Toronto:20240302T210000
DTSTAMP:20260424T161306
CREATED:20231124T201229Z
LAST-MODIFIED:20241104T213205Z
UID:10001429-1709402400-1709413200@whitesquirrelgolfclub.com
SUMMARY:Live Music Every Saturday Night
DESCRIPTION:
URL:https://whitesquirrelgolfclub.com/event/live-music-every-saturday-night/2024-03-02/
END:VEVENT
BEGIN:VEVENT
DTSTART;TZID=America/Toronto:20240301T120000
DTEND;TZID=America/Toronto:20240301T200000
DTSTAMP:20260424T161306
CREATED:20231124T201842Z
LAST-MODIFIED:20251211T194455Z
UID:10003078-1709294400-1709323200@whitesquirrelgolfclub.com
SUMMARY:Fish & Chips Friday
DESCRIPTION:Dine-In Only\, enjoy our Fish & Chips on special\, 1 pc/ $16 | 2/pc $22
URL:https://whitesquirrelgolfclub.com/event/fish-chips-friday/2024-03-01/
END:VEVENT
BEGIN:VEVENT
DTSTART;TZID=America/Toronto:20240229T180000
DTEND;TZID=America/Toronto:20240229T210000
DTSTAMP:20260424T161306
CREATED:20231124T201038Z
LAST-MODIFIED:20251211T193538Z
UID:10001038-1709229600-1709240400@whitesquirrelgolfclub.com
SUMMARY:Wing Night & Jam Session with Dustin SkySmith
DESCRIPTION:Join us every Thursday night with Dustin SkySmith! \nWing Special: $10 1LB | $20 2LBS \n 
URL:https://whitesquirrelgolfclub.com/event/wing-night-jam-session-with-dustin-skysmith/2024-02-29/
END:VEVENT
BEGIN:VEVENT
DTSTART;TZID=America/Toronto:20240224T180000
DTEND;TZID=America/Toronto:20240224T210000
DTSTAMP:20260424T161306
CREATED:20231124T201229Z
LAST-MODIFIED:20241104T213205Z
UID:10001428-1708797600-1708808400@whitesquirrelgolfclub.com
SUMMARY:Live Music Every Saturday Night
DESCRIPTION:
URL:https://whitesquirrelgolfclub.com/event/live-music-every-saturday-night/2024-02-24/
END:VEVENT
BEGIN:VEVENT
DTSTART;TZID=America/Toronto:20240223T120000
DTEND;TZID=America/Toronto:20240223T200000
DTSTAMP:20260424T161306
CREATED:20231124T201842Z
LAST-MODIFIED:20251211T194455Z
UID:10003077-1708689600-1708718400@whitesquirrelgolfclub.com
SUMMARY:Fish & Chips Friday
DESCRIPTION:Dine-In Only\, enjoy our Fish & Chips on special\, 1 pc/ $16 | 2/pc $22
URL:https://whitesquirrelgolfclub.com/event/fish-chips-friday/2024-02-23/
END:VEVENT
BEGIN:VEVENT
DTSTART;TZID=America/Toronto:20240222T180000
DTEND;TZID=America/Toronto:20240222T210000
DTSTAMP:20260424T161306
CREATED:20231124T201038Z
LAST-MODIFIED:20251211T193538Z
UID:10001037-1708624800-1708635600@whitesquirrelgolfclub.com
SUMMARY:Wing Night & Jam Session with Dustin SkySmith
DESCRIPTION:Join us every Thursday night with Dustin SkySmith! \nWing Special: $10 1LB | $20 2LBS \n 
URL:https://whitesquirrelgolfclub.com/event/wing-night-jam-session-with-dustin-skysmith/2024-02-22/
END:VEVENT
BEGIN:VEVENT
DTSTART;TZID=America/Toronto:20240217T180000
DTEND;TZID=America/Toronto:20240217T210000
DTSTAMP:20260424T161306
CREATED:20231124T201229Z
LAST-MODIFIED:20241104T213205Z
UID:10001427-1708192800-1708203600@whitesquirrelgolfclub.com
SUMMARY:Live Music Every Saturday Night
DESCRIPTION:
URL:https://whitesquirrelgolfclub.com/event/live-music-every-saturday-night/2024-02-17/
END:VEVENT
BEGIN:VEVENT
DTSTART;TZID=America/Toronto:20240216T120000
DTEND;TZID=America/Toronto:20240216T200000
DTSTAMP:20260424T161306
CREATED:20231124T201842Z
LAST-MODIFIED:20251211T194455Z
UID:10003076-1708084800-1708113600@whitesquirrelgolfclub.com
SUMMARY:Fish & Chips Friday
DESCRIPTION:Dine-In Only\, enjoy our Fish & Chips on special\, 1 pc/ $16 | 2/pc $22
URL:https://whitesquirrelgolfclub.com/event/fish-chips-friday/2024-02-16/
END:VEVENT
BEGIN:VEVENT
DTSTART;TZID=America/Toronto:20240215T180000
DTEND;TZID=America/Toronto:20240215T210000
DTSTAMP:20260424T161306
CREATED:20231124T201038Z
LAST-MODIFIED:20251211T193538Z
UID:10001036-1708020000-1708030800@whitesquirrelgolfclub.com
SUMMARY:Wing Night & Jam Session with Dustin SkySmith
DESCRIPTION:Join us every Thursday night with Dustin SkySmith! \nWing Special: $10 1LB | $20 2LBS \n 
URL:https://whitesquirrelgolfclub.com/event/wing-night-jam-session-with-dustin-skysmith/2024-02-15/
END:VEVENT
BEGIN:VEVENT
DTSTART;TZID=America/Toronto:20240214T183000
DTEND;TZID=America/Toronto:20240214T203000
DTSTAMP:20260424T161306
CREATED:20240110T001825Z
LAST-MODIFIED:20240202T221248Z
UID:10001484-1707935400-1707942600@whitesquirrelgolfclub.com
SUMMARY:Valentine's Day Mixology & Cooking Class
DESCRIPTION:Back by Popular Demand! \nJoin us for a fun-filled evening of a Mixology and Cooking Workshop with a Valentine’s Day twist! \nWednesday\, February 14th \nDoors open 6:00 pm\nClass begins 7:00 pm \n$55+HST per person includes dinner and drink samples.\n$20+HST per person for Cocktail upgrade to full sizes\nBooked in groups of 2+ \nElevate your Valentine’s Day with our Mixology & Cooking Class! \nA romantic evening of crafting cocktails\, cooking gourmet dishes\, and creating lasting memories with your loved one. \nMenu:\nStart – Arancini\nMain – Roasted Duck Breast with confit potatoes & red cabbage with cherry demi\nDessert – Red Velvet Cake \nPlease note: Any cancellations made less than 3 business days before the event will not qualify for a refund. \n\nBook your table HERE
URL:https://whitesquirrelgolfclub.com/event/valentines-day-mixology-cooking-class/
END:VEVENT
BEGIN:VEVENT
DTSTART;TZID=America/Toronto:20240210T180000
DTEND;TZID=America/Toronto:20240210T210000
DTSTAMP:20260424T161306
CREATED:20231124T201229Z
LAST-MODIFIED:20241104T213205Z
UID:10001426-1707588000-1707598800@whitesquirrelgolfclub.com
SUMMARY:Live Music Every Saturday Night
DESCRIPTION:
URL:https://whitesquirrelgolfclub.com/event/live-music-every-saturday-night/2024-02-10/
END:VEVENT
BEGIN:VEVENT
DTSTART;TZID=America/Toronto:20240209T200000
DTEND;TZID=America/Toronto:20240209T223000
DTSTAMP:20260424T161306
CREATED:20240110T001619Z
LAST-MODIFIED:20240202T221134Z
UID:10001483-1707508800-1707517800@whitesquirrelgolfclub.com
SUMMARY:Galentine's Day Drag Show
DESCRIPTION:Friday February 9th\, 2023 \nDoors open: 7:00 pm | Show: 8:00 pm\n$25+HST \nPurchase tickets HERE\nFor individual tickets email events@whitesquirrelgolfclub.com \nFor cancellations contact directly for modifications. Cancellations within 72 hours of the event will not be provided with a refund. \nTroy Boy Entertainment Guidelines:\n1. Everyone is here for the sole purpose to have fun\, & feel safe!\n2. Please support the venue that is hosting the team\, without them we would not be here!\n3. Live entertainment is a tipping culture\, this comes in a variety of ways that we will discuss!
URL:https://whitesquirrelgolfclub.com/event/7172/
END:VEVENT
BEGIN:VEVENT
DTSTART;TZID=America/Toronto:20240209T120000
DTEND;TZID=America/Toronto:20240209T200000
DTSTAMP:20260424T161306
CREATED:20231124T201842Z
LAST-MODIFIED:20251211T194455Z
UID:10003075-1707480000-1707508800@whitesquirrelgolfclub.com
SUMMARY:Fish & Chips Friday
DESCRIPTION:Dine-In Only\, enjoy our Fish & Chips on special\, 1 pc/ $16 | 2/pc $22
URL:https://whitesquirrelgolfclub.com/event/fish-chips-friday/2024-02-09/
END:VEVENT
BEGIN:VEVENT
DTSTART;TZID=America/Toronto:20240208T180000
DTEND;TZID=America/Toronto:20240208T210000
DTSTAMP:20260424T161306
CREATED:20231124T201038Z
LAST-MODIFIED:20251211T193538Z
UID:10001035-1707415200-1707426000@whitesquirrelgolfclub.com
SUMMARY:Wing Night & Jam Session with Dustin SkySmith
DESCRIPTION:Join us every Thursday night with Dustin SkySmith! \nWing Special: $10 1LB | $20 2LBS \n 
URL:https://whitesquirrelgolfclub.com/event/wing-night-jam-session-with-dustin-skysmith/2024-02-08/
END:VEVENT
BEGIN:VEVENT
DTSTART;TZID=America/Toronto:20240203T180000
DTEND;TZID=America/Toronto:20240203T210000
DTSTAMP:20260424T161306
CREATED:20231124T201229Z
LAST-MODIFIED:20241104T213205Z
UID:10001425-1706983200-1706994000@whitesquirrelgolfclub.com
SUMMARY:Live Music Every Saturday Night
DESCRIPTION:
URL:https://whitesquirrelgolfclub.com/event/live-music-every-saturday-night/2024-02-03/
END:VEVENT
BEGIN:VEVENT
DTSTART;TZID=America/Toronto:20240202T120000
DTEND;TZID=America/Toronto:20240202T200000
DTSTAMP:20260424T161306
CREATED:20231124T201842Z
LAST-MODIFIED:20251211T194455Z
UID:10003074-1706875200-1706904000@whitesquirrelgolfclub.com
SUMMARY:Fish & Chips Friday
DESCRIPTION:Dine-In Only\, enjoy our Fish & Chips on special\, 1 pc/ $16 | 2/pc $22
URL:https://whitesquirrelgolfclub.com/event/fish-chips-friday/2024-02-02/
END:VEVENT
BEGIN:VEVENT
DTSTART;TZID=America/Toronto:20240201T180000
DTEND;TZID=America/Toronto:20240201T210000
DTSTAMP:20260424T161306
CREATED:20231124T201038Z
LAST-MODIFIED:20251211T193538Z
UID:10001034-1706810400-1706821200@whitesquirrelgolfclub.com
SUMMARY:Wing Night & Jam Session with Dustin SkySmith
DESCRIPTION:Join us every Thursday night with Dustin SkySmith! \nWing Special: $10 1LB | $20 2LBS \n 
URL:https://whitesquirrelgolfclub.com/event/wing-night-jam-session-with-dustin-skysmith/2024-02-01/
END:VEVENT
BEGIN:VEVENT
DTSTART;TZID=America/Toronto:20240127T180000
DTEND;TZID=America/Toronto:20240127T210000
DTSTAMP:20260424T161306
CREATED:20231124T201229Z
LAST-MODIFIED:20241104T213205Z
UID:10001424-1706378400-1706389200@whitesquirrelgolfclub.com
SUMMARY:Live Music Every Saturday Night
DESCRIPTION:
URL:https://whitesquirrelgolfclub.com/event/live-music-every-saturday-night/2024-01-27/
END:VEVENT
END:VCALENDAR