BEGIN:VCALENDAR
VERSION:2.0
PRODID:-//White Squirrel Golf Club &amp; Restaurant | Zurich, Ontario - ECPv6.15.17.1//NONSGML v1.0//EN
CALSCALE:GREGORIAN
METHOD:PUBLISH
X-WR-CALNAME:White Squirrel Golf Club &amp; Restaurant | Zurich, Ontario
X-ORIGINAL-URL:https://whitesquirrelgolfclub.com
X-WR-CALDESC:Events for White Squirrel Golf Club &amp; Restaurant | Zurich, Ontario
REFRESH-INTERVAL;VALUE=DURATION:PT1H
X-Robots-Tag:noindex
X-PUBLISHED-TTL:PT1H
BEGIN:VTIMEZONE
TZID:America/Toronto
BEGIN:DAYLIGHT
TZOFFSETFROM:-0500
TZOFFSETTO:-0400
TZNAME:EDT
DTSTART:20230312T070000
END:DAYLIGHT
BEGIN:STANDARD
TZOFFSETFROM:-0400
TZOFFSETTO:-0500
TZNAME:EST
DTSTART:20231105T060000
END:STANDARD
BEGIN:DAYLIGHT
TZOFFSETFROM:-0500
TZOFFSETTO:-0400
TZNAME:EDT
DTSTART:20240310T070000
END:DAYLIGHT
BEGIN:STANDARD
TZOFFSETFROM:-0400
TZOFFSETTO:-0500
TZNAME:EST
DTSTART:20241103T060000
END:STANDARD
BEGIN:DAYLIGHT
TZOFFSETFROM:-0500
TZOFFSETTO:-0400
TZNAME:EDT
DTSTART:20250309T070000
END:DAYLIGHT
BEGIN:STANDARD
TZOFFSETFROM:-0400
TZOFFSETTO:-0500
TZNAME:EST
DTSTART:20251102T060000
END:STANDARD
END:VTIMEZONE
BEGIN:VEVENT
DTSTART;TZID=America/Toronto:20240622T180000
DTEND;TZID=America/Toronto:20240622T210000
DTSTAMP:20260424T072339
CREATED:20231124T201229Z
LAST-MODIFIED:20241104T213205Z
UID:10001445-1719079200-1719090000@whitesquirrelgolfclub.com
SUMMARY:Live Music Every Saturday Night
DESCRIPTION:
URL:https://whitesquirrelgolfclub.com/event/live-music-every-saturday-night/2024-06-22/
END:VEVENT
BEGIN:VEVENT
DTSTART;TZID=America/Toronto:20240621T120000
DTEND;TZID=America/Toronto:20240621T200000
DTSTAMP:20260424T072339
CREATED:20231124T201842Z
LAST-MODIFIED:20251211T194455Z
UID:10003094-1718971200-1719000000@whitesquirrelgolfclub.com
SUMMARY:Fish & Chips Friday
DESCRIPTION:Dine-In Only\, enjoy our Fish & Chips on special\, 1 pc/ $16 | 2/pc $22
URL:https://whitesquirrelgolfclub.com/event/fish-chips-friday/2024-06-21/
END:VEVENT
BEGIN:VEVENT
DTSTART;TZID=America/Toronto:20240620T180000
DTEND;TZID=America/Toronto:20240620T210000
DTSTAMP:20260424T072339
CREATED:20231124T201038Z
LAST-MODIFIED:20251211T193538Z
UID:10001054-1718906400-1718917200@whitesquirrelgolfclub.com
SUMMARY:Wing Night & Jam Session with Dustin SkySmith
DESCRIPTION:Join us every Thursday night with Dustin SkySmith! \nWing Special: $10 1LB | $20 2LBS \n 
URL:https://whitesquirrelgolfclub.com/event/wing-night-jam-session-with-dustin-skysmith/2024-06-20/
END:VEVENT
BEGIN:VEVENT
DTSTART;TZID=America/Toronto:20240615T180000
DTEND;TZID=America/Toronto:20240615T210000
DTSTAMP:20260424T072339
CREATED:20231124T201229Z
LAST-MODIFIED:20241104T213205Z
UID:10001444-1718474400-1718485200@whitesquirrelgolfclub.com
SUMMARY:Live Music Every Saturday Night
DESCRIPTION:
URL:https://whitesquirrelgolfclub.com/event/live-music-every-saturday-night/2024-06-15/
END:VEVENT
BEGIN:VEVENT
DTSTART;TZID=America/Toronto:20240614T120000
DTEND;TZID=America/Toronto:20240614T200000
DTSTAMP:20260424T072339
CREATED:20231124T201842Z
LAST-MODIFIED:20251211T194455Z
UID:10003093-1718366400-1718395200@whitesquirrelgolfclub.com
SUMMARY:Fish & Chips Friday
DESCRIPTION:Dine-In Only\, enjoy our Fish & Chips on special\, 1 pc/ $16 | 2/pc $22
URL:https://whitesquirrelgolfclub.com/event/fish-chips-friday/2024-06-14/
END:VEVENT
BEGIN:VEVENT
DTSTART;TZID=America/Toronto:20240613T180000
DTEND;TZID=America/Toronto:20240613T210000
DTSTAMP:20260424T072339
CREATED:20231124T201038Z
LAST-MODIFIED:20251211T193538Z
UID:10001053-1718301600-1718312400@whitesquirrelgolfclub.com
SUMMARY:Wing Night & Jam Session with Dustin SkySmith
DESCRIPTION:Join us every Thursday night with Dustin SkySmith! \nWing Special: $10 1LB | $20 2LBS \n 
URL:https://whitesquirrelgolfclub.com/event/wing-night-jam-session-with-dustin-skysmith/2024-06-13/
END:VEVENT
BEGIN:VEVENT
DTSTART;TZID=America/Toronto:20240608T180000
DTEND;TZID=America/Toronto:20240608T210000
DTSTAMP:20260424T072339
CREATED:20231124T201229Z
LAST-MODIFIED:20241104T213205Z
UID:10001443-1717869600-1717880400@whitesquirrelgolfclub.com
SUMMARY:Live Music Every Saturday Night
DESCRIPTION:
URL:https://whitesquirrelgolfclub.com/event/live-music-every-saturday-night/2024-06-08/
END:VEVENT
BEGIN:VEVENT
DTSTART;TZID=America/Toronto:20240607T120000
DTEND;TZID=America/Toronto:20240607T200000
DTSTAMP:20260424T072339
CREATED:20231124T201842Z
LAST-MODIFIED:20251211T194455Z
UID:10003092-1717761600-1717790400@whitesquirrelgolfclub.com
SUMMARY:Fish & Chips Friday
DESCRIPTION:Dine-In Only\, enjoy our Fish & Chips on special\, 1 pc/ $16 | 2/pc $22
URL:https://whitesquirrelgolfclub.com/event/fish-chips-friday/2024-06-07/
END:VEVENT
BEGIN:VEVENT
DTSTART;TZID=America/Toronto:20240606T180000
DTEND;TZID=America/Toronto:20240606T210000
DTSTAMP:20260424T072339
CREATED:20231124T201038Z
LAST-MODIFIED:20251211T193538Z
UID:10001052-1717696800-1717707600@whitesquirrelgolfclub.com
SUMMARY:Wing Night & Jam Session with Dustin SkySmith
DESCRIPTION:Join us every Thursday night with Dustin SkySmith! \nWing Special: $10 1LB | $20 2LBS \n 
URL:https://whitesquirrelgolfclub.com/event/wing-night-jam-session-with-dustin-skysmith/2024-06-06/
END:VEVENT
BEGIN:VEVENT
DTSTART;TZID=America/Toronto:20240601T180000
DTEND;TZID=America/Toronto:20240601T210000
DTSTAMP:20260424T072339
CREATED:20231124T201229Z
LAST-MODIFIED:20241104T213205Z
UID:10001442-1717264800-1717275600@whitesquirrelgolfclub.com
SUMMARY:Live Music Every Saturday Night
DESCRIPTION:
URL:https://whitesquirrelgolfclub.com/event/live-music-every-saturday-night/2024-06-01/
END:VEVENT
BEGIN:VEVENT
DTSTART;TZID=America/Toronto:20240531T120000
DTEND;TZID=America/Toronto:20240531T200000
DTSTAMP:20260424T072339
CREATED:20231124T201842Z
LAST-MODIFIED:20251211T194455Z
UID:10003091-1717156800-1717185600@whitesquirrelgolfclub.com
SUMMARY:Fish & Chips Friday
DESCRIPTION:Dine-In Only\, enjoy our Fish & Chips on special\, 1 pc/ $16 | 2/pc $22
URL:https://whitesquirrelgolfclub.com/event/fish-chips-friday/2024-05-31/
END:VEVENT
BEGIN:VEVENT
DTSTART;TZID=America/Toronto:20240530T180000
DTEND;TZID=America/Toronto:20240530T210000
DTSTAMP:20260424T072339
CREATED:20231124T201038Z
LAST-MODIFIED:20251211T193538Z
UID:10001051-1717092000-1717102800@whitesquirrelgolfclub.com
SUMMARY:Wing Night & Jam Session with Dustin SkySmith
DESCRIPTION:Join us every Thursday night with Dustin SkySmith! \nWing Special: $10 1LB | $20 2LBS \n 
URL:https://whitesquirrelgolfclub.com/event/wing-night-jam-session-with-dustin-skysmith/2024-05-30/
END:VEVENT
BEGIN:VEVENT
DTSTART;TZID=America/Toronto:20240525T180000
DTEND;TZID=America/Toronto:20240525T210000
DTSTAMP:20260424T072339
CREATED:20231124T201229Z
LAST-MODIFIED:20241104T213205Z
UID:10001441-1716660000-1716670800@whitesquirrelgolfclub.com
SUMMARY:Live Music Every Saturday Night
DESCRIPTION:
URL:https://whitesquirrelgolfclub.com/event/live-music-every-saturday-night/2024-05-25/
END:VEVENT
BEGIN:VEVENT
DTSTART;TZID=America/Toronto:20240524T120000
DTEND;TZID=America/Toronto:20240524T200000
DTSTAMP:20260424T072339
CREATED:20231124T201842Z
LAST-MODIFIED:20251211T194455Z
UID:10003090-1716552000-1716580800@whitesquirrelgolfclub.com
SUMMARY:Fish & Chips Friday
DESCRIPTION:Dine-In Only\, enjoy our Fish & Chips on special\, 1 pc/ $16 | 2/pc $22
URL:https://whitesquirrelgolfclub.com/event/fish-chips-friday/2024-05-24/
END:VEVENT
BEGIN:VEVENT
DTSTART;TZID=America/Toronto:20240523T180000
DTEND;TZID=America/Toronto:20240523T210000
DTSTAMP:20260424T072339
CREATED:20231124T201038Z
LAST-MODIFIED:20251211T193538Z
UID:10001050-1716487200-1716498000@whitesquirrelgolfclub.com
SUMMARY:Wing Night & Jam Session with Dustin SkySmith
DESCRIPTION:Join us every Thursday night with Dustin SkySmith! \nWing Special: $10 1LB | $20 2LBS \n 
URL:https://whitesquirrelgolfclub.com/event/wing-night-jam-session-with-dustin-skysmith/2024-05-23/
END:VEVENT
BEGIN:VEVENT
DTSTART;TZID=America/Toronto:20240518T180000
DTEND;TZID=America/Toronto:20240518T210000
DTSTAMP:20260424T072339
CREATED:20231124T201229Z
LAST-MODIFIED:20241104T213205Z
UID:10001440-1716055200-1716066000@whitesquirrelgolfclub.com
SUMMARY:Live Music Every Saturday Night
DESCRIPTION:
URL:https://whitesquirrelgolfclub.com/event/live-music-every-saturday-night/2024-05-18/
END:VEVENT
BEGIN:VEVENT
DTSTART;TZID=America/Toronto:20240518T100000
DTEND;TZID=America/Toronto:20240518T160000
DTSTAMP:20260424T072339
CREATED:20240426T154316Z
LAST-MODIFIED:20240426T154316Z
UID:10001500-1716026400-1716048000@whitesquirrelgolfclub.com
SUMMARY:Tour Edge Demo Day
DESCRIPTION:Join us on the driving range with Tour Edge representative Steve Mallin and our Head Professional\, Stuart Thain to demo the new Tour Edge golf clubs! There is no cost to demo the clubs. Tour Edge is represented by Mike Weir on the Champions Tour. These are great options for seniors or new golfers. 
URL:https://whitesquirrelgolfclub.com/event/tour-edge-demo-day/
ATTACH;FMTTYPE=image/png:https://whitesquirrelgolfclub.com/wp-content/uploads/2024/04/Screenshot-2024-04-26-114132.png
END:VEVENT
BEGIN:VEVENT
DTSTART;TZID=America/Toronto:20240517T120000
DTEND;TZID=America/Toronto:20240517T200000
DTSTAMP:20260424T072339
CREATED:20231124T201842Z
LAST-MODIFIED:20251211T194455Z
UID:10003089-1715947200-1715976000@whitesquirrelgolfclub.com
SUMMARY:Fish & Chips Friday
DESCRIPTION:Dine-In Only\, enjoy our Fish & Chips on special\, 1 pc/ $16 | 2/pc $22
URL:https://whitesquirrelgolfclub.com/event/fish-chips-friday/2024-05-17/
END:VEVENT
BEGIN:VEVENT
DTSTART;TZID=America/Toronto:20240516T180000
DTEND;TZID=America/Toronto:20240516T210000
DTSTAMP:20260424T072339
CREATED:20231124T201038Z
LAST-MODIFIED:20251211T193538Z
UID:10001049-1715882400-1715893200@whitesquirrelgolfclub.com
SUMMARY:Wing Night & Jam Session with Dustin SkySmith
DESCRIPTION:Join us every Thursday night with Dustin SkySmith! \nWing Special: $10 1LB | $20 2LBS \n 
URL:https://whitesquirrelgolfclub.com/event/wing-night-jam-session-with-dustin-skysmith/2024-05-16/
END:VEVENT
BEGIN:VEVENT
DTSTART;TZID=America/Toronto:20240511T180000
DTEND;TZID=America/Toronto:20240511T210000
DTSTAMP:20260424T072339
CREATED:20231124T201229Z
LAST-MODIFIED:20241104T213205Z
UID:10001439-1715450400-1715461200@whitesquirrelgolfclub.com
SUMMARY:Live Music Every Saturday Night
DESCRIPTION:
URL:https://whitesquirrelgolfclub.com/event/live-music-every-saturday-night/2024-05-11/
END:VEVENT
BEGIN:VEVENT
DTSTART;TZID=America/Toronto:20240510T120000
DTEND;TZID=America/Toronto:20240510T200000
DTSTAMP:20260424T072339
CREATED:20231124T201842Z
LAST-MODIFIED:20251211T194455Z
UID:10003088-1715342400-1715371200@whitesquirrelgolfclub.com
SUMMARY:Fish & Chips Friday
DESCRIPTION:Dine-In Only\, enjoy our Fish & Chips on special\, 1 pc/ $16 | 2/pc $22
URL:https://whitesquirrelgolfclub.com/event/fish-chips-friday/2024-05-10/
END:VEVENT
BEGIN:VEVENT
DTSTART;TZID=America/Toronto:20240509T180000
DTEND;TZID=America/Toronto:20240509T210000
DTSTAMP:20260424T072339
CREATED:20231124T201038Z
LAST-MODIFIED:20251211T193538Z
UID:10001048-1715277600-1715288400@whitesquirrelgolfclub.com
SUMMARY:Wing Night & Jam Session with Dustin SkySmith
DESCRIPTION:Join us every Thursday night with Dustin SkySmith! \nWing Special: $10 1LB | $20 2LBS \n 
URL:https://whitesquirrelgolfclub.com/event/wing-night-jam-session-with-dustin-skysmith/2024-05-09/
END:VEVENT
BEGIN:VEVENT
DTSTART;TZID=America/Toronto:20240504T180000
DTEND;TZID=America/Toronto:20240504T210000
DTSTAMP:20260424T072339
CREATED:20231124T201229Z
LAST-MODIFIED:20241104T213205Z
UID:10001438-1714845600-1714856400@whitesquirrelgolfclub.com
SUMMARY:Live Music Every Saturday Night
DESCRIPTION:
URL:https://whitesquirrelgolfclub.com/event/live-music-every-saturday-night/2024-05-04/
END:VEVENT
BEGIN:VEVENT
DTSTART;TZID=America/Toronto:20240503T120000
DTEND;TZID=America/Toronto:20240503T200000
DTSTAMP:20260424T072339
CREATED:20231124T201842Z
LAST-MODIFIED:20251211T194455Z
UID:10003087-1714737600-1714766400@whitesquirrelgolfclub.com
SUMMARY:Fish & Chips Friday
DESCRIPTION:Dine-In Only\, enjoy our Fish & Chips on special\, 1 pc/ $16 | 2/pc $22
URL:https://whitesquirrelgolfclub.com/event/fish-chips-friday/2024-05-03/
END:VEVENT
BEGIN:VEVENT
DTSTART;TZID=America/Toronto:20240502T180000
DTEND;TZID=America/Toronto:20240502T210000
DTSTAMP:20260424T072339
CREATED:20231124T201038Z
LAST-MODIFIED:20251211T193538Z
UID:10001047-1714672800-1714683600@whitesquirrelgolfclub.com
SUMMARY:Wing Night & Jam Session with Dustin SkySmith
DESCRIPTION:Join us every Thursday night with Dustin SkySmith! \nWing Special: $10 1LB | $20 2LBS \n 
URL:https://whitesquirrelgolfclub.com/event/wing-night-jam-session-with-dustin-skysmith/2024-05-02/
END:VEVENT
BEGIN:VEVENT
DTSTART;TZID=America/Toronto:20240427T180000
DTEND;TZID=America/Toronto:20240427T210000
DTSTAMP:20260424T072339
CREATED:20231124T201229Z
LAST-MODIFIED:20241104T213205Z
UID:10001437-1714240800-1714251600@whitesquirrelgolfclub.com
SUMMARY:Live Music Every Saturday Night
DESCRIPTION:
URL:https://whitesquirrelgolfclub.com/event/live-music-every-saturday-night/2024-04-27/
END:VEVENT
BEGIN:VEVENT
DTSTART;TZID=America/Toronto:20240426T120000
DTEND;TZID=America/Toronto:20240426T200000
DTSTAMP:20260424T072339
CREATED:20231124T201842Z
LAST-MODIFIED:20251211T194455Z
UID:10003086-1714132800-1714161600@whitesquirrelgolfclub.com
SUMMARY:Fish & Chips Friday
DESCRIPTION:Dine-In Only\, enjoy our Fish & Chips on special\, 1 pc/ $16 | 2/pc $22
URL:https://whitesquirrelgolfclub.com/event/fish-chips-friday/2024-04-26/
END:VEVENT
BEGIN:VEVENT
DTSTART;TZID=America/Toronto:20240425T180000
DTEND;TZID=America/Toronto:20240425T210000
DTSTAMP:20260424T072339
CREATED:20231124T201038Z
LAST-MODIFIED:20251211T193538Z
UID:10001046-1714068000-1714078800@whitesquirrelgolfclub.com
SUMMARY:Wing Night & Jam Session with Dustin SkySmith
DESCRIPTION:Join us every Thursday night with Dustin SkySmith! \nWing Special: $10 1LB | $20 2LBS \n 
URL:https://whitesquirrelgolfclub.com/event/wing-night-jam-session-with-dustin-skysmith/2024-04-25/
END:VEVENT
BEGIN:VEVENT
DTSTART;TZID=America/Toronto:20240425T160000
DTEND;TZID=America/Toronto:20240425T180000
DTSTAMP:20260424T072339
CREATED:20240306T205312Z
LAST-MODIFIED:20240306T205312Z
UID:10001490-1714060800-1714068000@whitesquirrelgolfclub.com
SUMMARY:Ladies Sip n' Shop
DESCRIPTION:Join us from 4-6pm for a great social time and mixer! We’ll have a number of vendors\, a fully stocked proshop\, and some fun and games planned! This is a great chance to meet some fellow golfers and members of our ladies leagues. This event is open to everyone and has no cost.
URL:https://whitesquirrelgolfclub.com/event/ladies-sip-n-shop/
LOCATION:Acorn Patio – White Squirrel Golf Club\, 72538 Bluewater Highway\, Zurich\, Ontario\, N0M 2T0\, Canada
END:VEVENT
BEGIN:VEVENT
DTSTART;TZID=America/Toronto:20240420T180000
DTEND;TZID=America/Toronto:20240420T210000
DTSTAMP:20260424T072339
CREATED:20231124T201229Z
LAST-MODIFIED:20241104T213205Z
UID:10001436-1713636000-1713646800@whitesquirrelgolfclub.com
SUMMARY:Live Music Every Saturday Night
DESCRIPTION:
URL:https://whitesquirrelgolfclub.com/event/live-music-every-saturday-night/2024-04-20/
END:VEVENT
END:VCALENDAR