BEGIN:VCALENDAR
VERSION:2.0
PRODID:-//White Squirrel Golf Club &amp; Restaurant | Zurich, Ontario - ECPv6.15.17.1//NONSGML v1.0//EN
CALSCALE:GREGORIAN
METHOD:PUBLISH
X-WR-CALNAME:White Squirrel Golf Club &amp; Restaurant | Zurich, Ontario
X-ORIGINAL-URL:https://whitesquirrelgolfclub.com
X-WR-CALDESC:Events for White Squirrel Golf Club &amp; Restaurant | Zurich, Ontario
REFRESH-INTERVAL;VALUE=DURATION:PT1H
X-Robots-Tag:noindex
X-PUBLISHED-TTL:PT1H
BEGIN:VTIMEZONE
TZID:America/Toronto
BEGIN:DAYLIGHT
TZOFFSETFROM:-0500
TZOFFSETTO:-0400
TZNAME:EDT
DTSTART:20230312T070000
END:DAYLIGHT
BEGIN:STANDARD
TZOFFSETFROM:-0400
TZOFFSETTO:-0500
TZNAME:EST
DTSTART:20231105T060000
END:STANDARD
BEGIN:DAYLIGHT
TZOFFSETFROM:-0500
TZOFFSETTO:-0400
TZNAME:EDT
DTSTART:20240310T070000
END:DAYLIGHT
BEGIN:STANDARD
TZOFFSETFROM:-0400
TZOFFSETTO:-0500
TZNAME:EST
DTSTART:20241103T060000
END:STANDARD
BEGIN:DAYLIGHT
TZOFFSETFROM:-0500
TZOFFSETTO:-0400
TZNAME:EDT
DTSTART:20250309T070000
END:DAYLIGHT
BEGIN:STANDARD
TZOFFSETFROM:-0400
TZOFFSETTO:-0500
TZNAME:EST
DTSTART:20251102T060000
END:STANDARD
BEGIN:DAYLIGHT
TZOFFSETFROM:-0500
TZOFFSETTO:-0400
TZNAME:EDT
DTSTART:20260308T070000
END:DAYLIGHT
BEGIN:STANDARD
TZOFFSETFROM:-0400
TZOFFSETTO:-0500
TZNAME:EST
DTSTART:20261101T060000
END:STANDARD
END:VTIMEZONE
BEGIN:VEVENT
DTSTART;TZID=America/Toronto:20250125T180000
DTEND;TZID=America/Toronto:20250125T210000
DTSTAMP:20260424T074018
CREATED:20250102T194449Z
LAST-MODIFIED:20250721T125441Z
UID:10001570-1737828000-1737838800@whitesquirrelgolfclub.com
SUMMARY:Live Music Every Saturday Night
DESCRIPTION:
URL:https://whitesquirrelgolfclub.com/event/live-music-every-saturday-night-2/2025-01-25/
END:VEVENT
BEGIN:VEVENT
DTSTART;TZID=America/Toronto:20250124T120000
DTEND;TZID=America/Toronto:20250124T200000
DTSTAMP:20260424T074018
CREATED:20231124T201842Z
LAST-MODIFIED:20251211T194455Z
UID:10003125-1737720000-1737748800@whitesquirrelgolfclub.com
SUMMARY:Fish & Chips Friday
DESCRIPTION:Dine-In Only\, enjoy our Fish & Chips on special\, 1 pc/ $16 | 2/pc $22
URL:https://whitesquirrelgolfclub.com/event/fish-chips-friday/2025-01-24/
END:VEVENT
BEGIN:VEVENT
DTSTART;TZID=America/Toronto:20250123T180000
DTEND;TZID=America/Toronto:20250123T210000
DTSTAMP:20260424T074018
CREATED:20231124T201038Z
LAST-MODIFIED:20251211T193538Z
UID:10001085-1737655200-1737666000@whitesquirrelgolfclub.com
SUMMARY:Wing Night & Jam Session with Dustin SkySmith
DESCRIPTION:Join us every Thursday night with Dustin SkySmith! \nWing Special: $10 1LB | $20 2LBS \n 
URL:https://whitesquirrelgolfclub.com/event/wing-night-jam-session-with-dustin-skysmith/2025-01-23/
END:VEVENT
BEGIN:VEVENT
DTSTART;TZID=America/Toronto:20250118T180000
DTEND;TZID=America/Toronto:20250118T210000
DTSTAMP:20260424T074018
CREATED:20250102T194449Z
LAST-MODIFIED:20250721T125441Z
UID:10002689-1737223200-1737234000@whitesquirrelgolfclub.com
SUMMARY:Live Music Every Saturday Night
DESCRIPTION:
URL:https://whitesquirrelgolfclub.com/event/live-music-every-saturday-night-2/2025-01-18/
END:VEVENT
BEGIN:VEVENT
DTSTART;TZID=America/Toronto:20250117T120000
DTEND;TZID=America/Toronto:20250117T200000
DTSTAMP:20260424T074018
CREATED:20231124T201842Z
LAST-MODIFIED:20251211T194455Z
UID:10003124-1737115200-1737144000@whitesquirrelgolfclub.com
SUMMARY:Fish & Chips Friday
DESCRIPTION:Dine-In Only\, enjoy our Fish & Chips on special\, 1 pc/ $16 | 2/pc $22
URL:https://whitesquirrelgolfclub.com/event/fish-chips-friday/2025-01-17/
END:VEVENT
BEGIN:VEVENT
DTSTART;TZID=America/Toronto:20250116T180000
DTEND;TZID=America/Toronto:20250116T210000
DTSTAMP:20260424T074018
CREATED:20231124T201038Z
LAST-MODIFIED:20251211T193538Z
UID:10001084-1737050400-1737061200@whitesquirrelgolfclub.com
SUMMARY:Wing Night & Jam Session with Dustin SkySmith
DESCRIPTION:Join us every Thursday night with Dustin SkySmith! \nWing Special: $10 1LB | $20 2LBS \n 
URL:https://whitesquirrelgolfclub.com/event/wing-night-jam-session-with-dustin-skysmith/2025-01-16/
END:VEVENT
BEGIN:VEVENT
DTSTART;TZID=America/Toronto:20250111T180000
DTEND;TZID=America/Toronto:20250111T210000
DTSTAMP:20260424T074018
CREATED:20250102T194449Z
LAST-MODIFIED:20250721T125441Z
UID:10001569-1736618400-1736629200@whitesquirrelgolfclub.com
SUMMARY:Live Music Every Saturday Night
DESCRIPTION:
URL:https://whitesquirrelgolfclub.com/event/live-music-every-saturday-night-2/2025-01-11/
END:VEVENT
BEGIN:VEVENT
DTSTART;TZID=America/Toronto:20250110T120000
DTEND;TZID=America/Toronto:20250110T200000
DTSTAMP:20260424T074018
CREATED:20231124T201842Z
LAST-MODIFIED:20251211T194455Z
UID:10003123-1736510400-1736539200@whitesquirrelgolfclub.com
SUMMARY:Fish & Chips Friday
DESCRIPTION:Dine-In Only\, enjoy our Fish & Chips on special\, 1 pc/ $16 | 2/pc $22
URL:https://whitesquirrelgolfclub.com/event/fish-chips-friday/2025-01-10/
END:VEVENT
BEGIN:VEVENT
DTSTART;TZID=America/Toronto:20250109T180000
DTEND;TZID=America/Toronto:20250109T210000
DTSTAMP:20260424T074018
CREATED:20231124T201038Z
LAST-MODIFIED:20251211T193538Z
UID:10001083-1736445600-1736456400@whitesquirrelgolfclub.com
SUMMARY:Wing Night & Jam Session with Dustin SkySmith
DESCRIPTION:Join us every Thursday night with Dustin SkySmith! \nWing Special: $10 1LB | $20 2LBS \n 
URL:https://whitesquirrelgolfclub.com/event/wing-night-jam-session-with-dustin-skysmith/2025-01-09/
END:VEVENT
BEGIN:VEVENT
DTSTART;TZID=America/Toronto:20250104T180000
DTEND;TZID=America/Toronto:20250104T210000
DTSTAMP:20260424T074018
CREATED:20250102T194449Z
LAST-MODIFIED:20250721T125441Z
UID:10001568-1736013600-1736024400@whitesquirrelgolfclub.com
SUMMARY:Live Music Every Saturday Night
DESCRIPTION:
URL:https://whitesquirrelgolfclub.com/event/live-music-every-saturday-night-2/2025-01-04/
END:VEVENT
BEGIN:VEVENT
DTSTART;TZID=America/Toronto:20250103T120000
DTEND;TZID=America/Toronto:20250103T200000
DTSTAMP:20260424T074018
CREATED:20231124T201842Z
LAST-MODIFIED:20251211T194455Z
UID:10003122-1735905600-1735934400@whitesquirrelgolfclub.com
SUMMARY:Fish & Chips Friday
DESCRIPTION:Dine-In Only\, enjoy our Fish & Chips on special\, 1 pc/ $16 | 2/pc $22
URL:https://whitesquirrelgolfclub.com/event/fish-chips-friday/2025-01-03/
END:VEVENT
BEGIN:VEVENT
DTSTART;TZID=America/Toronto:20250102T180000
DTEND;TZID=America/Toronto:20250102T210000
DTSTAMP:20260424T074018
CREATED:20231124T201038Z
LAST-MODIFIED:20251211T193538Z
UID:10001082-1735840800-1735851600@whitesquirrelgolfclub.com
SUMMARY:Wing Night & Jam Session with Dustin SkySmith
DESCRIPTION:Join us every Thursday night with Dustin SkySmith! \nWing Special: $10 1LB | $20 2LBS \n 
URL:https://whitesquirrelgolfclub.com/event/wing-night-jam-session-with-dustin-skysmith/2025-01-02/
END:VEVENT
BEGIN:VEVENT
DTSTART;TZID=America/Toronto:20241231T200000
DTEND;TZID=America/Toronto:20250101T010000
DTSTAMP:20260424T074018
CREATED:20241114T183344Z
LAST-MODIFIED:20241223T143551Z
UID:10001510-1735675200-1735693200@whitesquirrelgolfclub.com
SUMMARY:New Year's Eve
DESCRIPTION:Purchase your Tickets HERE
URL:https://whitesquirrelgolfclub.com/event/new-years-eve/
END:VEVENT
BEGIN:VEVENT
DTSTART;TZID=America/Toronto:20241227T120000
DTEND;TZID=America/Toronto:20241227T200000
DTSTAMP:20260424T074018
CREATED:20231124T201842Z
LAST-MODIFIED:20251211T194455Z
UID:10003121-1735300800-1735329600@whitesquirrelgolfclub.com
SUMMARY:Fish & Chips Friday
DESCRIPTION:Dine-In Only\, enjoy our Fish & Chips on special\, 1 pc/ $16 | 2/pc $22
URL:https://whitesquirrelgolfclub.com/event/fish-chips-friday/2024-12-27/
END:VEVENT
BEGIN:VEVENT
DTSTART;TZID=America/Toronto:20241226T180000
DTEND;TZID=America/Toronto:20241226T210000
DTSTAMP:20260424T074018
CREATED:20231124T201038Z
LAST-MODIFIED:20251211T193538Z
UID:10001081-1735236000-1735246800@whitesquirrelgolfclub.com
SUMMARY:Wing Night & Jam Session with Dustin SkySmith
DESCRIPTION:Join us every Thursday night with Dustin SkySmith! \nWing Special: $10 1LB | $20 2LBS \n 
URL:https://whitesquirrelgolfclub.com/event/wing-night-jam-session-with-dustin-skysmith/2024-12-26/
END:VEVENT
BEGIN:VEVENT
DTSTART;TZID=America/Toronto:20241221T180000
DTEND;TZID=America/Toronto:20241221T210000
DTSTAMP:20260424T074018
CREATED:20231124T201229Z
LAST-MODIFIED:20241104T213205Z
UID:10001471-1734804000-1734814800@whitesquirrelgolfclub.com
SUMMARY:Live Music Every Saturday Night
DESCRIPTION:
URL:https://whitesquirrelgolfclub.com/event/live-music-every-saturday-night/2024-12-21/
END:VEVENT
BEGIN:VEVENT
DTSTART;TZID=America/Toronto:20241220T120000
DTEND;TZID=America/Toronto:20241220T200000
DTSTAMP:20260424T074018
CREATED:20231124T201842Z
LAST-MODIFIED:20251211T194455Z
UID:10003120-1734696000-1734724800@whitesquirrelgolfclub.com
SUMMARY:Fish & Chips Friday
DESCRIPTION:Dine-In Only\, enjoy our Fish & Chips on special\, 1 pc/ $16 | 2/pc $22
URL:https://whitesquirrelgolfclub.com/event/fish-chips-friday/2024-12-20/
END:VEVENT
BEGIN:VEVENT
DTSTART;TZID=America/Toronto:20241219T180000
DTEND;TZID=America/Toronto:20241219T210000
DTSTAMP:20260424T074018
CREATED:20231124T201038Z
LAST-MODIFIED:20251211T193538Z
UID:10001080-1734631200-1734642000@whitesquirrelgolfclub.com
SUMMARY:Wing Night & Jam Session with Dustin SkySmith
DESCRIPTION:Join us every Thursday night with Dustin SkySmith! \nWing Special: $10 1LB | $20 2LBS \n 
URL:https://whitesquirrelgolfclub.com/event/wing-night-jam-session-with-dustin-skysmith/2024-12-19/
END:VEVENT
BEGIN:VEVENT
DTSTART;TZID=America/Toronto:20241218T183000
DTEND;TZID=America/Toronto:20241218T210000
DTSTAMP:20260424T074018
CREATED:20241114T182842Z
LAST-MODIFIED:20241114T184848Z
UID:10001509-1734546600-1734555600@whitesquirrelgolfclub.com
SUMMARY:Holiday Mixology
DESCRIPTION:  \nPurchase your Tickets HERE
URL:https://whitesquirrelgolfclub.com/event/holiday-mixology/
LOCATION:Dining Room – White Squirrel Golf Club\, 72538 Bluewater Highway\, Zurich\, Ontario\, N0M 2T0\, Canada
END:VEVENT
BEGIN:VEVENT
DTSTART;TZID=America/Toronto:20241215T090000
DTEND;TZID=America/Toronto:20241215T130000
DTSTAMP:20260424T074018
CREATED:20241114T182410Z
LAST-MODIFIED:20241114T182932Z
UID:10001508-1734253200-1734267600@whitesquirrelgolfclub.com
SUMMARY:Breakfast With Santa
DESCRIPTION:BOOK YOUR DEC 8th TABLE HERE\nBOOK YOUR DEC 18th TABLE HERE\n 
URL:https://whitesquirrelgolfclub.com/event/breakfast-with-santa-4/2024-12-15/
LOCATION:Dining Room – White Squirrel Golf Club\, 72538 Bluewater Highway\, Zurich\, Ontario\, N0M 2T0\, Canada
END:VEVENT
BEGIN:VEVENT
DTSTART;TZID=America/Toronto:20241214T180000
DTEND;TZID=America/Toronto:20241214T210000
DTSTAMP:20260424T074018
CREATED:20231124T201229Z
LAST-MODIFIED:20241104T213205Z
UID:10001470-1734199200-1734210000@whitesquirrelgolfclub.com
SUMMARY:Live Music Every Saturday Night
DESCRIPTION:
URL:https://whitesquirrelgolfclub.com/event/live-music-every-saturday-night/2024-12-14/
END:VEVENT
BEGIN:VEVENT
DTSTART;TZID=America/Toronto:20241213T120000
DTEND;TZID=America/Toronto:20241213T200000
DTSTAMP:20260424T074018
CREATED:20231124T201842Z
LAST-MODIFIED:20251211T194455Z
UID:10003119-1734091200-1734120000@whitesquirrelgolfclub.com
SUMMARY:Fish & Chips Friday
DESCRIPTION:Dine-In Only\, enjoy our Fish & Chips on special\, 1 pc/ $16 | 2/pc $22
URL:https://whitesquirrelgolfclub.com/event/fish-chips-friday/2024-12-13/
END:VEVENT
BEGIN:VEVENT
DTSTART;TZID=America/Toronto:20241212T180000
DTEND;TZID=America/Toronto:20241212T210000
DTSTAMP:20260424T074018
CREATED:20231124T201038Z
LAST-MODIFIED:20251211T193538Z
UID:10001079-1734026400-1734037200@whitesquirrelgolfclub.com
SUMMARY:Wing Night & Jam Session with Dustin SkySmith
DESCRIPTION:Join us every Thursday night with Dustin SkySmith! \nWing Special: $10 1LB | $20 2LBS \n 
URL:https://whitesquirrelgolfclub.com/event/wing-night-jam-session-with-dustin-skysmith/2024-12-12/
END:VEVENT
BEGIN:VEVENT
DTSTART;TZID=America/Toronto:20241208T090000
DTEND;TZID=America/Toronto:20241208T130000
DTSTAMP:20260424T074018
CREATED:20241114T182410Z
LAST-MODIFIED:20241114T182932Z
UID:10001506-1733648400-1733662800@whitesquirrelgolfclub.com
SUMMARY:Breakfast With Santa
DESCRIPTION:BOOK YOUR DEC 8th TABLE HERE\nBOOK YOUR DEC 18th TABLE HERE\n 
URL:https://whitesquirrelgolfclub.com/event/breakfast-with-santa-4/2024-12-08/
LOCATION:Dining Room – White Squirrel Golf Club\, 72538 Bluewater Highway\, Zurich\, Ontario\, N0M 2T0\, Canada
END:VEVENT
BEGIN:VEVENT
DTSTART;TZID=America/Toronto:20241207T180000
DTEND;TZID=America/Toronto:20241207T210000
DTSTAMP:20260424T074018
CREATED:20231124T201229Z
LAST-MODIFIED:20241104T213205Z
UID:10001469-1733594400-1733605200@whitesquirrelgolfclub.com
SUMMARY:Live Music Every Saturday Night
DESCRIPTION:
URL:https://whitesquirrelgolfclub.com/event/live-music-every-saturday-night/2024-12-07/
END:VEVENT
BEGIN:VEVENT
DTSTART;TZID=America/Toronto:20241206T120000
DTEND;TZID=America/Toronto:20241206T200000
DTSTAMP:20260424T074018
CREATED:20231124T201842Z
LAST-MODIFIED:20251211T194455Z
UID:10003118-1733486400-1733515200@whitesquirrelgolfclub.com
SUMMARY:Fish & Chips Friday
DESCRIPTION:Dine-In Only\, enjoy our Fish & Chips on special\, 1 pc/ $16 | 2/pc $22
URL:https://whitesquirrelgolfclub.com/event/fish-chips-friday/2024-12-06/
END:VEVENT
BEGIN:VEVENT
DTSTART;TZID=America/Toronto:20241205T180000
DTEND;TZID=America/Toronto:20241205T210000
DTSTAMP:20260424T074018
CREATED:20231124T201038Z
LAST-MODIFIED:20251211T193538Z
UID:10001078-1733421600-1733432400@whitesquirrelgolfclub.com
SUMMARY:Wing Night & Jam Session with Dustin SkySmith
DESCRIPTION:Join us every Thursday night with Dustin SkySmith! \nWing Special: $10 1LB | $20 2LBS \n 
URL:https://whitesquirrelgolfclub.com/event/wing-night-jam-session-with-dustin-skysmith/2024-12-05/
END:VEVENT
BEGIN:VEVENT
DTSTART;TZID=America/Toronto:20241130T180000
DTEND;TZID=America/Toronto:20241130T210000
DTSTAMP:20260424T074018
CREATED:20231124T201229Z
LAST-MODIFIED:20241104T213205Z
UID:10001468-1732989600-1733000400@whitesquirrelgolfclub.com
SUMMARY:Live Music Every Saturday Night
DESCRIPTION:
URL:https://whitesquirrelgolfclub.com/event/live-music-every-saturday-night/2024-11-30/
END:VEVENT
BEGIN:VEVENT
DTSTART;TZID=America/Toronto:20241129T120000
DTEND;TZID=America/Toronto:20241129T200000
DTSTAMP:20260424T074018
CREATED:20231124T201842Z
LAST-MODIFIED:20251211T194455Z
UID:10003117-1732881600-1732910400@whitesquirrelgolfclub.com
SUMMARY:Fish & Chips Friday
DESCRIPTION:Dine-In Only\, enjoy our Fish & Chips on special\, 1 pc/ $16 | 2/pc $22
URL:https://whitesquirrelgolfclub.com/event/fish-chips-friday/2024-11-29/
END:VEVENT
BEGIN:VEVENT
DTSTART;TZID=America/Toronto:20241128T180000
DTEND;TZID=America/Toronto:20241128T210000
DTSTAMP:20260424T074018
CREATED:20231124T201038Z
LAST-MODIFIED:20251211T193538Z
UID:10001077-1732816800-1732827600@whitesquirrelgolfclub.com
SUMMARY:Wing Night & Jam Session with Dustin SkySmith
DESCRIPTION:Join us every Thursday night with Dustin SkySmith! \nWing Special: $10 1LB | $20 2LBS \n 
URL:https://whitesquirrelgolfclub.com/event/wing-night-jam-session-with-dustin-skysmith/2024-11-28/
END:VEVENT
END:VCALENDAR