BEGIN:VCALENDAR
VERSION:2.0
PRODID:-//White Squirrel Golf Club &amp; Restaurant | Zurich, Ontario - ECPv6.15.17.1//NONSGML v1.0//EN
CALSCALE:GREGORIAN
METHOD:PUBLISH
X-ORIGINAL-URL:https://whitesquirrelgolfclub.com
X-WR-CALDESC:Events for White Squirrel Golf Club &amp; Restaurant | Zurich, Ontario
REFRESH-INTERVAL;VALUE=DURATION:PT1H
X-Robots-Tag:noindex
X-PUBLISHED-TTL:PT1H
BEGIN:VTIMEZONE
TZID:America/Toronto
BEGIN:DAYLIGHT
TZOFFSETFROM:-0500
TZOFFSETTO:-0400
TZNAME:EDT
DTSTART:20250309T070000
END:DAYLIGHT
BEGIN:STANDARD
TZOFFSETFROM:-0400
TZOFFSETTO:-0500
TZNAME:EST
DTSTART:20251102T060000
END:STANDARD
BEGIN:DAYLIGHT
TZOFFSETFROM:-0500
TZOFFSETTO:-0400
TZNAME:EDT
DTSTART:20260308T070000
END:DAYLIGHT
BEGIN:STANDARD
TZOFFSETFROM:-0400
TZOFFSETTO:-0500
TZNAME:EST
DTSTART:20261101T060000
END:STANDARD
BEGIN:DAYLIGHT
TZOFFSETFROM:-0500
TZOFFSETTO:-0400
TZNAME:EDT
DTSTART:20270314T070000
END:DAYLIGHT
BEGIN:STANDARD
TZOFFSETFROM:-0400
TZOFFSETTO:-0500
TZNAME:EST
DTSTART:20271107T060000
END:STANDARD
END:VTIMEZONE
BEGIN:VEVENT
DTSTART;TZID=America/Toronto:20260424T120000
DTEND;TZID=America/Toronto:20260424T200000
DTSTAMP:20260425T080511
CREATED:20231124T201842Z
LAST-MODIFIED:20251211T194455Z
UID:10003189-1777032000-1777060800@whitesquirrelgolfclub.com
SUMMARY:Fish & Chips Friday
DESCRIPTION:Dine-In Only\, enjoy our Fish & Chips on special\, 1 pc/ $16 | 2/pc $22
URL:https://whitesquirrelgolfclub.com/event/fish-chips-friday/2026-04-24/
END:VEVENT
BEGIN:VEVENT
DTSTART;TZID=America/Toronto:20260423T180000
DTEND;TZID=America/Toronto:20260423T210000
DTSTAMP:20260425T080511
CREATED:20231124T201038Z
LAST-MODIFIED:20251211T193538Z
UID:10002481-1776967200-1776978000@whitesquirrelgolfclub.com
SUMMARY:Wing Night & Jam Session with Dustin SkySmith
DESCRIPTION:Join us every Thursday night with Dustin SkySmith! \nWing Special: $10 1LB | $20 2LBS \n 
URL:https://whitesquirrelgolfclub.com/event/wing-night-jam-session-with-dustin-skysmith/2026-04-23/
END:VEVENT
BEGIN:VEVENT
DTSTART;TZID=America/Toronto:20260419T120000
DTEND;TZID=America/Toronto:20260419T200000
DTSTAMP:20260425T080511
CREATED:20251211T194748Z
LAST-MODIFIED:20251211T194828Z
UID:10003449-1776600000-1776628800@whitesquirrelgolfclub.com
SUMMARY:Liver & Onions Special
DESCRIPTION:Join us each Sunday and enjoy our Liver and Onions for $18 +HST\nBeef liver served with mashed potatoes\, seasonal vegetables\, and bacon & onion gravy.
URL:https://whitesquirrelgolfclub.com/event/liver-onions-special/2026-04-19/
END:VEVENT
BEGIN:VEVENT
DTSTART;TZID=America/Toronto:20260418T180000
DTEND;TZID=America/Toronto:20260418T210000
DTSTAMP:20260425T080511
CREATED:20250102T194449Z
LAST-MODIFIED:20250721T125441Z
UID:10001634-1776535200-1776546000@whitesquirrelgolfclub.com
SUMMARY:Live Music Every Saturday Night
DESCRIPTION:
URL:https://whitesquirrelgolfclub.com/event/live-music-every-saturday-night-2/2026-04-18/
END:VEVENT
BEGIN:VEVENT
DTSTART;TZID=America/Toronto:20260417T120000
DTEND;TZID=America/Toronto:20260417T200000
DTSTAMP:20260425T080511
CREATED:20231124T201842Z
LAST-MODIFIED:20251211T194455Z
UID:10003188-1776427200-1776456000@whitesquirrelgolfclub.com
SUMMARY:Fish & Chips Friday
DESCRIPTION:Dine-In Only\, enjoy our Fish & Chips on special\, 1 pc/ $16 | 2/pc $22
URL:https://whitesquirrelgolfclub.com/event/fish-chips-friday/2026-04-17/
END:VEVENT
BEGIN:VEVENT
DTSTART;TZID=America/Toronto:20260416T190000
DTEND;TZID=America/Toronto:20260416T210000
DTSTAMP:20260425T080511
CREATED:20260325T230121Z
LAST-MODIFIED:20260325T230121Z
UID:10003753-1776366000-1776373200@whitesquirrelgolfclub.com
SUMMARY:Spring Fashion Show
DESCRIPTION:Swing into spring with style! Fresh looks\, great food\, and all the spring vibes! \nJoin us at White Squirrel on April 16th at 7PM for a fabulous Spring Fashion Show.\nMake it a full night out and enjoy dinner before the show \n\n\n\nLadies League Players -this event will replace our previous “Sip n’ Shop”.\n\n\n\nReserve your table:  events@whitesquirrelgolfclub.com\, please indicate what time you’d like to arrive and how many guests at your table.\n\n\nThis is not a ticketed event and reservations will take priority seating. Reserve early so you don’t miss out!
URL:https://whitesquirrelgolfclub.com/event/spring-fashion-show/
ATTACH;FMTTYPE=image/jpeg:https://whitesquirrelgolfclub.com/wp-content/uploads/2026/03/654930473_1880149062927484_9066435099989181406_n.jpg
END:VEVENT
BEGIN:VEVENT
DTSTART;TZID=America/Toronto:20260416T180000
DTEND;TZID=America/Toronto:20260416T210000
DTSTAMP:20260425T080511
CREATED:20231124T201038Z
LAST-MODIFIED:20251211T193538Z
UID:10002480-1776362400-1776373200@whitesquirrelgolfclub.com
SUMMARY:Wing Night & Jam Session with Dustin SkySmith
DESCRIPTION:Join us every Thursday night with Dustin SkySmith! \nWing Special: $10 1LB | $20 2LBS \n 
URL:https://whitesquirrelgolfclub.com/event/wing-night-jam-session-with-dustin-skysmith/2026-04-16/
END:VEVENT
BEGIN:VEVENT
DTSTART;TZID=America/Toronto:20260412T120000
DTEND;TZID=America/Toronto:20260412T200000
DTSTAMP:20260425T080511
CREATED:20251211T194748Z
LAST-MODIFIED:20251211T194828Z
UID:10003448-1775995200-1776024000@whitesquirrelgolfclub.com
SUMMARY:Liver & Onions Special
DESCRIPTION:Join us each Sunday and enjoy our Liver and Onions for $18 +HST\nBeef liver served with mashed potatoes\, seasonal vegetables\, and bacon & onion gravy.
URL:https://whitesquirrelgolfclub.com/event/liver-onions-special/2026-04-12/
END:VEVENT
BEGIN:VEVENT
DTSTART;TZID=America/Toronto:20260411T180000
DTEND;TZID=America/Toronto:20260411T210000
DTSTAMP:20260425T080511
CREATED:20250102T194449Z
LAST-MODIFIED:20250721T125441Z
UID:10001633-1775930400-1775941200@whitesquirrelgolfclub.com
SUMMARY:Live Music Every Saturday Night
DESCRIPTION:
URL:https://whitesquirrelgolfclub.com/event/live-music-every-saturday-night-2/2026-04-11/
END:VEVENT
BEGIN:VEVENT
DTSTART;TZID=America/Toronto:20260410T120000
DTEND;TZID=America/Toronto:20260410T200000
DTSTAMP:20260425T080511
CREATED:20231124T201842Z
LAST-MODIFIED:20251211T194455Z
UID:10003187-1775822400-1775851200@whitesquirrelgolfclub.com
SUMMARY:Fish & Chips Friday
DESCRIPTION:Dine-In Only\, enjoy our Fish & Chips on special\, 1 pc/ $16 | 2/pc $22
URL:https://whitesquirrelgolfclub.com/event/fish-chips-friday/2026-04-10/
END:VEVENT
BEGIN:VEVENT
DTSTART;TZID=America/Toronto:20260409T180000
DTEND;TZID=America/Toronto:20260409T210000
DTSTAMP:20260425T080511
CREATED:20231124T201038Z
LAST-MODIFIED:20251211T193538Z
UID:10002479-1775757600-1775768400@whitesquirrelgolfclub.com
SUMMARY:Wing Night & Jam Session with Dustin SkySmith
DESCRIPTION:Join us every Thursday night with Dustin SkySmith! \nWing Special: $10 1LB | $20 2LBS \n 
URL:https://whitesquirrelgolfclub.com/event/wing-night-jam-session-with-dustin-skysmith/2026-04-09/
END:VEVENT
BEGIN:VEVENT
DTSTART;TZID=America/Toronto:20260405T120000
DTEND;TZID=America/Toronto:20260405T200000
DTSTAMP:20260425T080511
CREATED:20251211T194748Z
LAST-MODIFIED:20251211T194828Z
UID:10003447-1775390400-1775419200@whitesquirrelgolfclub.com
SUMMARY:Liver & Onions Special
DESCRIPTION:Join us each Sunday and enjoy our Liver and Onions for $18 +HST\nBeef liver served with mashed potatoes\, seasonal vegetables\, and bacon & onion gravy.
URL:https://whitesquirrelgolfclub.com/event/liver-onions-special/2026-04-05/
END:VEVENT
BEGIN:VEVENT
DTSTART;TZID=America/Toronto:20260404T180000
DTEND;TZID=America/Toronto:20260404T210000
DTSTAMP:20260425T080511
CREATED:20250102T194449Z
LAST-MODIFIED:20250721T125441Z
UID:10001632-1775325600-1775336400@whitesquirrelgolfclub.com
SUMMARY:Live Music Every Saturday Night
DESCRIPTION:
URL:https://whitesquirrelgolfclub.com/event/live-music-every-saturday-night-2/2026-04-04/
END:VEVENT
BEGIN:VEVENT
DTSTART;TZID=America/Toronto:20260403T120000
DTEND;TZID=America/Toronto:20260403T200000
DTSTAMP:20260425T080511
CREATED:20231124T201842Z
LAST-MODIFIED:20251211T194455Z
UID:10003186-1775217600-1775246400@whitesquirrelgolfclub.com
SUMMARY:Fish & Chips Friday
DESCRIPTION:Dine-In Only\, enjoy our Fish & Chips on special\, 1 pc/ $16 | 2/pc $22
URL:https://whitesquirrelgolfclub.com/event/fish-chips-friday/2026-04-03/
END:VEVENT
BEGIN:VEVENT
DTSTART;TZID=America/Toronto:20260402T180000
DTEND;TZID=America/Toronto:20260402T210000
DTSTAMP:20260425T080511
CREATED:20231124T201038Z
LAST-MODIFIED:20251211T193538Z
UID:10002478-1775152800-1775163600@whitesquirrelgolfclub.com
SUMMARY:Wing Night & Jam Session with Dustin SkySmith
DESCRIPTION:Join us every Thursday night with Dustin SkySmith! \nWing Special: $10 1LB | $20 2LBS \n 
URL:https://whitesquirrelgolfclub.com/event/wing-night-jam-session-with-dustin-skysmith/2026-04-02/
END:VEVENT
BEGIN:VEVENT
DTSTART;VALUE=DATE:20260401
DTEND;VALUE=DATE:20260402
DTSTAMP:20260425T080511
CREATED:20260325T223428Z
LAST-MODIFIED:20260325T223428Z
UID:10003693-1775001600-1775087999@whitesquirrelgolfclub.com
SUMMARY:Registration Opens for Spring Golf Clinics
DESCRIPTION:🌸🏌️‍♀️ Spring into Golf! 🌸🏌️‍♂️ Whether you’re new to the game or looking to sharpen your skills\, our Spring Golf Clinics have you covered! \n⛳ Refresher Clinic – Focus on topics like swing fundamentals\, course management\, driving range\, putting\, chipping\, and on-course instruction. Includes 2 weeks of 1-hour learning sessions. \nChoose from: \nMonday\, May 11th & Thursday\, May 14th at 5:30PM-6:30PM \nMonday\, May 11th & Thursday\, May 14th at 7:00PM-8:00PM \nMonday\, May 18th & Thursday\, May 21st at 5:30PM-6:30PM \nMonday\, May 18th & Thursday\, May 21st at 7:00PM-8:00PM \nAll instruction provided by PGA of Canada Class “A” Professional Stuart Thain. \nREGISTER HERE!
URL:https://whitesquirrelgolfclub.com/event/registration-opens-for-spring-golf-clinics/
ATTACH;FMTTYPE=image/png:https://whitesquirrelgolfclub.com/wp-content/uploads/2026/03/Spring-into-Golf-2026.png
END:VEVENT
BEGIN:VEVENT
DTSTART;TZID=America/Toronto:20260329T120000
DTEND;TZID=America/Toronto:20260329T200000
DTSTAMP:20260425T080511
CREATED:20251211T194748Z
LAST-MODIFIED:20251211T194828Z
UID:10003446-1774785600-1774814400@whitesquirrelgolfclub.com
SUMMARY:Liver & Onions Special
DESCRIPTION:Join us each Sunday and enjoy our Liver and Onions for $18 +HST\nBeef liver served with mashed potatoes\, seasonal vegetables\, and bacon & onion gravy.
URL:https://whitesquirrelgolfclub.com/event/liver-onions-special/2026-03-29/
END:VEVENT
BEGIN:VEVENT
DTSTART;TZID=America/Toronto:20260328T180000
DTEND;TZID=America/Toronto:20260328T210000
DTSTAMP:20260425T080511
CREATED:20250102T194449Z
LAST-MODIFIED:20250721T125441Z
UID:10001631-1774720800-1774731600@whitesquirrelgolfclub.com
SUMMARY:Live Music Every Saturday Night
DESCRIPTION:
URL:https://whitesquirrelgolfclub.com/event/live-music-every-saturday-night-2/2026-03-28/
END:VEVENT
BEGIN:VEVENT
DTSTART;TZID=America/Toronto:20260327T120000
DTEND;TZID=America/Toronto:20260327T200000
DTSTAMP:20260425T080511
CREATED:20231124T201842Z
LAST-MODIFIED:20251211T194455Z
UID:10003185-1774612800-1774641600@whitesquirrelgolfclub.com
SUMMARY:Fish & Chips Friday
DESCRIPTION:Dine-In Only\, enjoy our Fish & Chips on special\, 1 pc/ $16 | 2/pc $22
URL:https://whitesquirrelgolfclub.com/event/fish-chips-friday/2026-03-27/
END:VEVENT
BEGIN:VEVENT
DTSTART;TZID=America/Toronto:20260326T180000
DTEND;TZID=America/Toronto:20260326T210000
DTSTAMP:20260425T080511
CREATED:20231124T201038Z
LAST-MODIFIED:20251211T193538Z
UID:10002477-1774548000-1774558800@whitesquirrelgolfclub.com
SUMMARY:Wing Night & Jam Session with Dustin SkySmith
DESCRIPTION:Join us every Thursday night with Dustin SkySmith! \nWing Special: $10 1LB | $20 2LBS \n 
URL:https://whitesquirrelgolfclub.com/event/wing-night-jam-session-with-dustin-skysmith/2026-03-26/
END:VEVENT
BEGIN:VEVENT
DTSTART;TZID=America/Toronto:20260325T090000
DTEND;TZID=America/Toronto:20260325T170000
DTSTAMP:20260425T080511
CREATED:20240306T204257Z
LAST-MODIFIED:20260325T224048Z
UID:10001487-1774429200-1774458000@whitesquirrelgolfclub.com
SUMMARY:League Registration Opens -New Players
DESCRIPTION:Registration for new players to our summer golf leagues (Monday Seniors\, Tuesday Men’s\, Wednesday Partee\, Thursday Ladies) opens at 9:00AM from our website. Go to www.whitesquirrelgolfclub.com and click “Shop”. March 25th is the registration opening for all new league players. Registration deadline is April 15th or when leagues are sold out.
URL:https://whitesquirrelgolfclub.com/event/league-registration-opens-new-players/
LOCATION:Online Only\, N0M2T0\, Canada
END:VEVENT
BEGIN:VEVENT
DTSTART;TZID=America/Toronto:20260322T120000
DTEND;TZID=America/Toronto:20260322T200000
DTSTAMP:20260425T080511
CREATED:20251211T194748Z
LAST-MODIFIED:20251211T194828Z
UID:10003445-1774180800-1774209600@whitesquirrelgolfclub.com
SUMMARY:Liver & Onions Special
DESCRIPTION:Join us each Sunday and enjoy our Liver and Onions for $18 +HST\nBeef liver served with mashed potatoes\, seasonal vegetables\, and bacon & onion gravy.
URL:https://whitesquirrelgolfclub.com/event/liver-onions-special/2026-03-22/
END:VEVENT
BEGIN:VEVENT
DTSTART;TZID=America/Toronto:20260321T180000
DTEND;TZID=America/Toronto:20260321T210000
DTSTAMP:20260425T080511
CREATED:20250102T194449Z
LAST-MODIFIED:20250721T125441Z
UID:10001630-1774116000-1774126800@whitesquirrelgolfclub.com
SUMMARY:Live Music Every Saturday Night
DESCRIPTION:
URL:https://whitesquirrelgolfclub.com/event/live-music-every-saturday-night-2/2026-03-21/
END:VEVENT
BEGIN:VEVENT
DTSTART;TZID=America/Toronto:20260320T120000
DTEND;TZID=America/Toronto:20260320T200000
DTSTAMP:20260425T080511
CREATED:20231124T201842Z
LAST-MODIFIED:20251211T194455Z
UID:10003184-1774008000-1774036800@whitesquirrelgolfclub.com
SUMMARY:Fish & Chips Friday
DESCRIPTION:Dine-In Only\, enjoy our Fish & Chips on special\, 1 pc/ $16 | 2/pc $22
URL:https://whitesquirrelgolfclub.com/event/fish-chips-friday/2026-03-20/
END:VEVENT
BEGIN:VEVENT
DTSTART;TZID=America/Toronto:20260319T180000
DTEND;TZID=America/Toronto:20260319T210000
DTSTAMP:20260425T080511
CREATED:20231124T201038Z
LAST-MODIFIED:20251211T193538Z
UID:10002476-1773943200-1773954000@whitesquirrelgolfclub.com
SUMMARY:Wing Night & Jam Session with Dustin SkySmith
DESCRIPTION:Join us every Thursday night with Dustin SkySmith! \nWing Special: $10 1LB | $20 2LBS \n 
URL:https://whitesquirrelgolfclub.com/event/wing-night-jam-session-with-dustin-skysmith/2026-03-19/
END:VEVENT
BEGIN:VEVENT
DTSTART;TZID=America/Toronto:20260318T090000
DTEND;TZID=America/Toronto:20260318T170000
DTSTAMP:20260425T080511
CREATED:20240306T204054Z
LAST-MODIFIED:20260325T223959Z
UID:10001486-1773824400-1773853200@whitesquirrelgolfclub.com
SUMMARY:League Registration Opens -Returning Players & Club Members
DESCRIPTION:Registration for our summer golf leagues (Monday Seniors\, Tuesday Men’s\, Wednesday Night\, Thursday Ladies) opens at 9:00AM from our website. Go to www.whitesquirrelgolfclub.com and click “Shop”. March 20th is the registration opening for all returning league players and White Squirrel Golf Club Members. Registration deadline is April 15th or when leagues are sold out.
URL:https://whitesquirrelgolfclub.com/event/league-registration-opens-returning-players-club-members/
LOCATION:Online Only\, N0M2T0\, Canada
END:VEVENT
BEGIN:VEVENT
DTSTART;TZID=America/Toronto:20260315T120000
DTEND;TZID=America/Toronto:20260315T200000
DTSTAMP:20260425T080511
CREATED:20251211T194748Z
LAST-MODIFIED:20251211T194828Z
UID:10003444-1773576000-1773604800@whitesquirrelgolfclub.com
SUMMARY:Liver & Onions Special
DESCRIPTION:Join us each Sunday and enjoy our Liver and Onions for $18 +HST\nBeef liver served with mashed potatoes\, seasonal vegetables\, and bacon & onion gravy.
URL:https://whitesquirrelgolfclub.com/event/liver-onions-special/2026-03-15/
END:VEVENT
BEGIN:VEVENT
DTSTART;TZID=America/Toronto:20260314T180000
DTEND;TZID=America/Toronto:20260314T210000
DTSTAMP:20260425T080511
CREATED:20250102T194449Z
LAST-MODIFIED:20250721T125441Z
UID:10001629-1773511200-1773522000@whitesquirrelgolfclub.com
SUMMARY:Live Music Every Saturday Night
DESCRIPTION:
URL:https://whitesquirrelgolfclub.com/event/live-music-every-saturday-night-2/2026-03-14/
END:VEVENT
BEGIN:VEVENT
DTSTART;TZID=America/Toronto:20260313T120000
DTEND;TZID=America/Toronto:20260313T200000
DTSTAMP:20260425T080511
CREATED:20231124T201842Z
LAST-MODIFIED:20251211T194455Z
UID:10003183-1773403200-1773432000@whitesquirrelgolfclub.com
SUMMARY:Fish & Chips Friday
DESCRIPTION:Dine-In Only\, enjoy our Fish & Chips on special\, 1 pc/ $16 | 2/pc $22
URL:https://whitesquirrelgolfclub.com/event/fish-chips-friday/2026-03-13/
END:VEVENT
BEGIN:VEVENT
DTSTART;TZID=America/Toronto:20260312T180000
DTEND;TZID=America/Toronto:20260312T210000
DTSTAMP:20260425T080511
CREATED:20231124T201038Z
LAST-MODIFIED:20251211T193538Z
UID:10002475-1773338400-1773349200@whitesquirrelgolfclub.com
SUMMARY:Wing Night & Jam Session with Dustin SkySmith
DESCRIPTION:Join us every Thursday night with Dustin SkySmith! \nWing Special: $10 1LB | $20 2LBS \n 
URL:https://whitesquirrelgolfclub.com/event/wing-night-jam-session-with-dustin-skysmith/2026-03-12/
END:VEVENT
END:VCALENDAR