BEGIN:VCALENDAR
VERSION:2.0
PRODID:-//White Squirrel Golf Club &amp; Restaurant | Zurich, Ontario - ECPv6.15.17.1//NONSGML v1.0//EN
CALSCALE:GREGORIAN
METHOD:PUBLISH
X-ORIGINAL-URL:https://whitesquirrelgolfclub.com
X-WR-CALDESC:Events for White Squirrel Golf Club &amp; Restaurant | Zurich, Ontario
REFRESH-INTERVAL;VALUE=DURATION:PT1H
X-Robots-Tag:noindex
X-PUBLISHED-TTL:PT1H
BEGIN:VTIMEZONE
TZID:America/Toronto
BEGIN:DAYLIGHT
TZOFFSETFROM:-0500
TZOFFSETTO:-0400
TZNAME:EDT
DTSTART:20230312T070000
END:DAYLIGHT
BEGIN:STANDARD
TZOFFSETFROM:-0400
TZOFFSETTO:-0500
TZNAME:EST
DTSTART:20231105T060000
END:STANDARD
BEGIN:DAYLIGHT
TZOFFSETFROM:-0500
TZOFFSETTO:-0400
TZNAME:EDT
DTSTART:20240310T070000
END:DAYLIGHT
BEGIN:STANDARD
TZOFFSETFROM:-0400
TZOFFSETTO:-0500
TZNAME:EST
DTSTART:20241103T060000
END:STANDARD
BEGIN:DAYLIGHT
TZOFFSETFROM:-0500
TZOFFSETTO:-0400
TZNAME:EDT
DTSTART:20250309T070000
END:DAYLIGHT
BEGIN:STANDARD
TZOFFSETFROM:-0400
TZOFFSETTO:-0500
TZNAME:EST
DTSTART:20251102T060000
END:STANDARD
END:VTIMEZONE
BEGIN:VEVENT
DTSTART;TZID=America/Toronto:20240815T180000
DTEND;TZID=America/Toronto:20240815T210000
DTSTAMP:20260423T195906
CREATED:20231124T201038Z
LAST-MODIFIED:20251211T193538Z
UID:10001062-1723744800-1723755600@whitesquirrelgolfclub.com
SUMMARY:Wing Night & Jam Session with Dustin SkySmith
DESCRIPTION:Join us every Thursday night with Dustin SkySmith! \nWing Special: $10 1LB | $20 2LBS \n 
URL:https://whitesquirrelgolfclub.com/event/wing-night-jam-session-with-dustin-skysmith/2024-08-15/
END:VEVENT
BEGIN:VEVENT
DTSTART;TZID=America/Toronto:20240816T120000
DTEND;TZID=America/Toronto:20240816T200000
DTSTAMP:20260423T195906
CREATED:20231124T201842Z
LAST-MODIFIED:20251211T194455Z
UID:10003102-1723809600-1723838400@whitesquirrelgolfclub.com
SUMMARY:Fish & Chips Friday
DESCRIPTION:Dine-In Only\, enjoy our Fish & Chips on special\, 1 pc/ $16 | 2/pc $22
URL:https://whitesquirrelgolfclub.com/event/fish-chips-friday/2024-08-16/
END:VEVENT
BEGIN:VEVENT
DTSTART;TZID=America/Toronto:20240817T180000
DTEND;TZID=America/Toronto:20240817T210000
DTSTAMP:20260423T195906
CREATED:20231124T201229Z
LAST-MODIFIED:20241104T213205Z
UID:10001453-1723917600-1723928400@whitesquirrelgolfclub.com
SUMMARY:Live Music Every Saturday Night
DESCRIPTION:
URL:https://whitesquirrelgolfclub.com/event/live-music-every-saturday-night/2024-08-17/
END:VEVENT
BEGIN:VEVENT
DTSTART;TZID=America/Toronto:20240822T180000
DTEND;TZID=America/Toronto:20240822T210000
DTSTAMP:20260423T195906
CREATED:20231124T201038Z
LAST-MODIFIED:20251211T193538Z
UID:10001063-1724349600-1724360400@whitesquirrelgolfclub.com
SUMMARY:Wing Night & Jam Session with Dustin SkySmith
DESCRIPTION:Join us every Thursday night with Dustin SkySmith! \nWing Special: $10 1LB | $20 2LBS \n 
URL:https://whitesquirrelgolfclub.com/event/wing-night-jam-session-with-dustin-skysmith/2024-08-22/
END:VEVENT
BEGIN:VEVENT
DTSTART;TZID=America/Toronto:20240823T120000
DTEND;TZID=America/Toronto:20240823T200000
DTSTAMP:20260423T195906
CREATED:20231124T201842Z
LAST-MODIFIED:20251211T194455Z
UID:10003103-1724414400-1724443200@whitesquirrelgolfclub.com
SUMMARY:Fish & Chips Friday
DESCRIPTION:Dine-In Only\, enjoy our Fish & Chips on special\, 1 pc/ $16 | 2/pc $22
URL:https://whitesquirrelgolfclub.com/event/fish-chips-friday/2024-08-23/
END:VEVENT
BEGIN:VEVENT
DTSTART;TZID=America/Toronto:20240824T180000
DTEND;TZID=America/Toronto:20240824T210000
DTSTAMP:20260423T195906
CREATED:20231124T201229Z
LAST-MODIFIED:20241104T213205Z
UID:10001454-1724522400-1724533200@whitesquirrelgolfclub.com
SUMMARY:Live Music Every Saturday Night
DESCRIPTION:
URL:https://whitesquirrelgolfclub.com/event/live-music-every-saturday-night/2024-08-24/
END:VEVENT
BEGIN:VEVENT
DTSTART;TZID=America/Toronto:20240829T180000
DTEND;TZID=America/Toronto:20240829T210000
DTSTAMP:20260423T195906
CREATED:20231124T201038Z
LAST-MODIFIED:20251211T193538Z
UID:10001064-1724954400-1724965200@whitesquirrelgolfclub.com
SUMMARY:Wing Night & Jam Session with Dustin SkySmith
DESCRIPTION:Join us every Thursday night with Dustin SkySmith! \nWing Special: $10 1LB | $20 2LBS \n 
URL:https://whitesquirrelgolfclub.com/event/wing-night-jam-session-with-dustin-skysmith/2024-08-29/
END:VEVENT
BEGIN:VEVENT
DTSTART;TZID=America/Toronto:20240830T120000
DTEND;TZID=America/Toronto:20240830T200000
DTSTAMP:20260423T195906
CREATED:20231124T201842Z
LAST-MODIFIED:20251211T194455Z
UID:10003104-1725019200-1725048000@whitesquirrelgolfclub.com
SUMMARY:Fish & Chips Friday
DESCRIPTION:Dine-In Only\, enjoy our Fish & Chips on special\, 1 pc/ $16 | 2/pc $22
URL:https://whitesquirrelgolfclub.com/event/fish-chips-friday/2024-08-30/
END:VEVENT
BEGIN:VEVENT
DTSTART;TZID=America/Toronto:20240831T180000
DTEND;TZID=America/Toronto:20240831T210000
DTSTAMP:20260423T195907
CREATED:20231124T201229Z
LAST-MODIFIED:20241104T213205Z
UID:10001455-1725127200-1725138000@whitesquirrelgolfclub.com
SUMMARY:Live Music Every Saturday Night
DESCRIPTION:
URL:https://whitesquirrelgolfclub.com/event/live-music-every-saturday-night/2024-08-31/
END:VEVENT
BEGIN:VEVENT
DTSTART;TZID=America/Toronto:20240905T180000
DTEND;TZID=America/Toronto:20240905T210000
DTSTAMP:20260423T195907
CREATED:20231124T201038Z
LAST-MODIFIED:20251211T193538Z
UID:10001065-1725559200-1725570000@whitesquirrelgolfclub.com
SUMMARY:Wing Night & Jam Session with Dustin SkySmith
DESCRIPTION:Join us every Thursday night with Dustin SkySmith! \nWing Special: $10 1LB | $20 2LBS \n 
URL:https://whitesquirrelgolfclub.com/event/wing-night-jam-session-with-dustin-skysmith/2024-09-05/
END:VEVENT
BEGIN:VEVENT
DTSTART;TZID=America/Toronto:20240906T120000
DTEND;TZID=America/Toronto:20240906T200000
DTSTAMP:20260423T195907
CREATED:20231124T201842Z
LAST-MODIFIED:20251211T194455Z
UID:10003105-1725624000-1725652800@whitesquirrelgolfclub.com
SUMMARY:Fish & Chips Friday
DESCRIPTION:Dine-In Only\, enjoy our Fish & Chips on special\, 1 pc/ $16 | 2/pc $22
URL:https://whitesquirrelgolfclub.com/event/fish-chips-friday/2024-09-06/
END:VEVENT
BEGIN:VEVENT
DTSTART;TZID=America/Toronto:20240907T180000
DTEND;TZID=America/Toronto:20240907T210000
DTSTAMP:20260423T195907
CREATED:20231124T201229Z
LAST-MODIFIED:20241104T213205Z
UID:10001456-1725732000-1725742800@whitesquirrelgolfclub.com
SUMMARY:Live Music Every Saturday Night
DESCRIPTION:
URL:https://whitesquirrelgolfclub.com/event/live-music-every-saturday-night/2024-09-07/
END:VEVENT
BEGIN:VEVENT
DTSTART;TZID=America/Toronto:20240912T180000
DTEND;TZID=America/Toronto:20240912T210000
DTSTAMP:20260423T195907
CREATED:20231124T201038Z
LAST-MODIFIED:20251211T193538Z
UID:10001066-1726164000-1726174800@whitesquirrelgolfclub.com
SUMMARY:Wing Night & Jam Session with Dustin SkySmith
DESCRIPTION:Join us every Thursday night with Dustin SkySmith! \nWing Special: $10 1LB | $20 2LBS \n 
URL:https://whitesquirrelgolfclub.com/event/wing-night-jam-session-with-dustin-skysmith/2024-09-12/
END:VEVENT
BEGIN:VEVENT
DTSTART;TZID=America/Toronto:20240913T120000
DTEND;TZID=America/Toronto:20240913T200000
DTSTAMP:20260423T195907
CREATED:20231124T201842Z
LAST-MODIFIED:20251211T194455Z
UID:10003106-1726228800-1726257600@whitesquirrelgolfclub.com
SUMMARY:Fish & Chips Friday
DESCRIPTION:Dine-In Only\, enjoy our Fish & Chips on special\, 1 pc/ $16 | 2/pc $22
URL:https://whitesquirrelgolfclub.com/event/fish-chips-friday/2024-09-13/
END:VEVENT
BEGIN:VEVENT
DTSTART;TZID=America/Toronto:20240914T180000
DTEND;TZID=America/Toronto:20240914T210000
DTSTAMP:20260423T195907
CREATED:20231124T201229Z
LAST-MODIFIED:20241104T213205Z
UID:10001457-1726336800-1726347600@whitesquirrelgolfclub.com
SUMMARY:Live Music Every Saturday Night
DESCRIPTION:
URL:https://whitesquirrelgolfclub.com/event/live-music-every-saturday-night/2024-09-14/
END:VEVENT
BEGIN:VEVENT
DTSTART;TZID=America/Toronto:20240919T180000
DTEND;TZID=America/Toronto:20240919T210000
DTSTAMP:20260423T195907
CREATED:20231124T201038Z
LAST-MODIFIED:20251211T193538Z
UID:10001067-1726768800-1726779600@whitesquirrelgolfclub.com
SUMMARY:Wing Night & Jam Session with Dustin SkySmith
DESCRIPTION:Join us every Thursday night with Dustin SkySmith! \nWing Special: $10 1LB | $20 2LBS \n 
URL:https://whitesquirrelgolfclub.com/event/wing-night-jam-session-with-dustin-skysmith/2024-09-19/
END:VEVENT
BEGIN:VEVENT
DTSTART;TZID=America/Toronto:20240920T120000
DTEND;TZID=America/Toronto:20240920T200000
DTSTAMP:20260423T195907
CREATED:20231124T201842Z
LAST-MODIFIED:20251211T194455Z
UID:10003107-1726833600-1726862400@whitesquirrelgolfclub.com
SUMMARY:Fish & Chips Friday
DESCRIPTION:Dine-In Only\, enjoy our Fish & Chips on special\, 1 pc/ $16 | 2/pc $22
URL:https://whitesquirrelgolfclub.com/event/fish-chips-friday/2024-09-20/
END:VEVENT
BEGIN:VEVENT
DTSTART;TZID=America/Toronto:20240921T180000
DTEND;TZID=America/Toronto:20240921T210000
DTSTAMP:20260423T195907
CREATED:20231124T201229Z
LAST-MODIFIED:20241104T213205Z
UID:10001458-1726941600-1726952400@whitesquirrelgolfclub.com
SUMMARY:Live Music Every Saturday Night
DESCRIPTION:
URL:https://whitesquirrelgolfclub.com/event/live-music-every-saturday-night/2024-09-21/
END:VEVENT
BEGIN:VEVENT
DTSTART;TZID=America/Toronto:20240926T180000
DTEND;TZID=America/Toronto:20240926T210000
DTSTAMP:20260423T195907
CREATED:20231124T201038Z
LAST-MODIFIED:20251211T193538Z
UID:10001068-1727373600-1727384400@whitesquirrelgolfclub.com
SUMMARY:Wing Night & Jam Session with Dustin SkySmith
DESCRIPTION:Join us every Thursday night with Dustin SkySmith! \nWing Special: $10 1LB | $20 2LBS \n 
URL:https://whitesquirrelgolfclub.com/event/wing-night-jam-session-with-dustin-skysmith/2024-09-26/
END:VEVENT
BEGIN:VEVENT
DTSTART;TZID=America/Toronto:20240927T120000
DTEND;TZID=America/Toronto:20240927T200000
DTSTAMP:20260423T195907
CREATED:20231124T201842Z
LAST-MODIFIED:20251211T194455Z
UID:10003108-1727438400-1727467200@whitesquirrelgolfclub.com
SUMMARY:Fish & Chips Friday
DESCRIPTION:Dine-In Only\, enjoy our Fish & Chips on special\, 1 pc/ $16 | 2/pc $22
URL:https://whitesquirrelgolfclub.com/event/fish-chips-friday/2024-09-27/
END:VEVENT
BEGIN:VEVENT
DTSTART;TZID=America/Toronto:20240928T180000
DTEND;TZID=America/Toronto:20240928T210000
DTSTAMP:20260423T195907
CREATED:20231124T201229Z
LAST-MODIFIED:20241104T213205Z
UID:10001459-1727546400-1727557200@whitesquirrelgolfclub.com
SUMMARY:Live Music Every Saturday Night
DESCRIPTION:
URL:https://whitesquirrelgolfclub.com/event/live-music-every-saturday-night/2024-09-28/
END:VEVENT
BEGIN:VEVENT
DTSTART;TZID=America/Toronto:20241003T180000
DTEND;TZID=America/Toronto:20241003T210000
DTSTAMP:20260423T195907
CREATED:20231124T201038Z
LAST-MODIFIED:20251211T193538Z
UID:10001069-1727978400-1727989200@whitesquirrelgolfclub.com
SUMMARY:Wing Night & Jam Session with Dustin SkySmith
DESCRIPTION:Join us every Thursday night with Dustin SkySmith! \nWing Special: $10 1LB | $20 2LBS \n 
URL:https://whitesquirrelgolfclub.com/event/wing-night-jam-session-with-dustin-skysmith/2024-10-03/
END:VEVENT
BEGIN:VEVENT
DTSTART;TZID=America/Toronto:20241004T120000
DTEND;TZID=America/Toronto:20241004T200000
DTSTAMP:20260423T195907
CREATED:20231124T201842Z
LAST-MODIFIED:20251211T194455Z
UID:10003109-1728043200-1728072000@whitesquirrelgolfclub.com
SUMMARY:Fish & Chips Friday
DESCRIPTION:Dine-In Only\, enjoy our Fish & Chips on special\, 1 pc/ $16 | 2/pc $22
URL:https://whitesquirrelgolfclub.com/event/fish-chips-friday/2024-10-04/
END:VEVENT
BEGIN:VEVENT
DTSTART;TZID=America/Toronto:20241005T180000
DTEND;TZID=America/Toronto:20241005T210000
DTSTAMP:20260423T195907
CREATED:20231124T201229Z
LAST-MODIFIED:20241104T213205Z
UID:10001460-1728151200-1728162000@whitesquirrelgolfclub.com
SUMMARY:Live Music Every Saturday Night
DESCRIPTION:
URL:https://whitesquirrelgolfclub.com/event/live-music-every-saturday-night/2024-10-05/
END:VEVENT
BEGIN:VEVENT
DTSTART;TZID=America/Toronto:20241010T180000
DTEND;TZID=America/Toronto:20241010T210000
DTSTAMP:20260423T195907
CREATED:20231124T201038Z
LAST-MODIFIED:20251211T193538Z
UID:10001070-1728583200-1728594000@whitesquirrelgolfclub.com
SUMMARY:Wing Night & Jam Session with Dustin SkySmith
DESCRIPTION:Join us every Thursday night with Dustin SkySmith! \nWing Special: $10 1LB | $20 2LBS \n 
URL:https://whitesquirrelgolfclub.com/event/wing-night-jam-session-with-dustin-skysmith/2024-10-10/
END:VEVENT
BEGIN:VEVENT
DTSTART;TZID=America/Toronto:20241011T120000
DTEND;TZID=America/Toronto:20241011T200000
DTSTAMP:20260423T195907
CREATED:20231124T201842Z
LAST-MODIFIED:20251211T194455Z
UID:10003110-1728648000-1728676800@whitesquirrelgolfclub.com
SUMMARY:Fish & Chips Friday
DESCRIPTION:Dine-In Only\, enjoy our Fish & Chips on special\, 1 pc/ $16 | 2/pc $22
URL:https://whitesquirrelgolfclub.com/event/fish-chips-friday/2024-10-11/
END:VEVENT
BEGIN:VEVENT
DTSTART;TZID=America/Toronto:20241012T180000
DTEND;TZID=America/Toronto:20241012T210000
DTSTAMP:20260423T195907
CREATED:20231124T201229Z
LAST-MODIFIED:20241104T213205Z
UID:10001461-1728756000-1728766800@whitesquirrelgolfclub.com
SUMMARY:Live Music Every Saturday Night
DESCRIPTION:
URL:https://whitesquirrelgolfclub.com/event/live-music-every-saturday-night/2024-10-12/
END:VEVENT
BEGIN:VEVENT
DTSTART;TZID=America/Toronto:20241017T180000
DTEND;TZID=America/Toronto:20241017T210000
DTSTAMP:20260423T195907
CREATED:20231124T201038Z
LAST-MODIFIED:20251211T193538Z
UID:10001071-1729188000-1729198800@whitesquirrelgolfclub.com
SUMMARY:Wing Night & Jam Session with Dustin SkySmith
DESCRIPTION:Join us every Thursday night with Dustin SkySmith! \nWing Special: $10 1LB | $20 2LBS \n 
URL:https://whitesquirrelgolfclub.com/event/wing-night-jam-session-with-dustin-skysmith/2024-10-17/
END:VEVENT
BEGIN:VEVENT
DTSTART;TZID=America/Toronto:20241018T120000
DTEND;TZID=America/Toronto:20241018T200000
DTSTAMP:20260423T195907
CREATED:20231124T201842Z
LAST-MODIFIED:20251211T194455Z
UID:10003111-1729252800-1729281600@whitesquirrelgolfclub.com
SUMMARY:Fish & Chips Friday
DESCRIPTION:Dine-In Only\, enjoy our Fish & Chips on special\, 1 pc/ $16 | 2/pc $22
URL:https://whitesquirrelgolfclub.com/event/fish-chips-friday/2024-10-18/
END:VEVENT
BEGIN:VEVENT
DTSTART;TZID=America/Toronto:20241019T180000
DTEND;TZID=America/Toronto:20241019T210000
DTSTAMP:20260423T195907
CREATED:20231124T201229Z
LAST-MODIFIED:20241104T213205Z
UID:10001462-1729360800-1729371600@whitesquirrelgolfclub.com
SUMMARY:Live Music Every Saturday Night
DESCRIPTION:
URL:https://whitesquirrelgolfclub.com/event/live-music-every-saturday-night/2024-10-19/
END:VEVENT
END:VCALENDAR