BEGIN:VCALENDAR
VERSION:2.0
PRODID:-//White Squirrel Golf Club &amp; Restaurant | Zurich, Ontario - ECPv6.15.17.1//NONSGML v1.0//EN
CALSCALE:GREGORIAN
METHOD:PUBLISH
X-ORIGINAL-URL:https://whitesquirrelgolfclub.com
X-WR-CALDESC:Events for White Squirrel Golf Club &amp; Restaurant | Zurich, Ontario
REFRESH-INTERVAL;VALUE=DURATION:PT1H
X-Robots-Tag:noindex
X-PUBLISHED-TTL:PT1H
BEGIN:VTIMEZONE
TZID:America/Toronto
BEGIN:DAYLIGHT
TZOFFSETFROM:-0500
TZOFFSETTO:-0400
TZNAME:EDT
DTSTART:20240310T070000
END:DAYLIGHT
BEGIN:STANDARD
TZOFFSETFROM:-0400
TZOFFSETTO:-0500
TZNAME:EST
DTSTART:20241103T060000
END:STANDARD
BEGIN:DAYLIGHT
TZOFFSETFROM:-0500
TZOFFSETTO:-0400
TZNAME:EDT
DTSTART:20250309T070000
END:DAYLIGHT
BEGIN:STANDARD
TZOFFSETFROM:-0400
TZOFFSETTO:-0500
TZNAME:EST
DTSTART:20251102T060000
END:STANDARD
BEGIN:DAYLIGHT
TZOFFSETFROM:-0500
TZOFFSETTO:-0400
TZNAME:EDT
DTSTART:20260308T070000
END:DAYLIGHT
BEGIN:STANDARD
TZOFFSETFROM:-0400
TZOFFSETTO:-0500
TZNAME:EST
DTSTART:20261101T060000
END:STANDARD
END:VTIMEZONE
BEGIN:VEVENT
DTSTART;TZID=America/Toronto:20250123T180000
DTEND;TZID=America/Toronto:20250123T210000
DTSTAMP:20260424T063245
CREATED:20231124T201038Z
LAST-MODIFIED:20251211T193538Z
UID:10001085-1737655200-1737666000@whitesquirrelgolfclub.com
SUMMARY:Wing Night & Jam Session with Dustin SkySmith
DESCRIPTION:Join us every Thursday night with Dustin SkySmith! \nWing Special: $10 1LB | $20 2LBS \n 
URL:https://whitesquirrelgolfclub.com/event/wing-night-jam-session-with-dustin-skysmith/2025-01-23/
END:VEVENT
BEGIN:VEVENT
DTSTART;TZID=America/Toronto:20250124T120000
DTEND;TZID=America/Toronto:20250124T200000
DTSTAMP:20260424T063245
CREATED:20231124T201842Z
LAST-MODIFIED:20251211T194455Z
UID:10003125-1737720000-1737748800@whitesquirrelgolfclub.com
SUMMARY:Fish & Chips Friday
DESCRIPTION:Dine-In Only\, enjoy our Fish & Chips on special\, 1 pc/ $16 | 2/pc $22
URL:https://whitesquirrelgolfclub.com/event/fish-chips-friday/2025-01-24/
END:VEVENT
BEGIN:VEVENT
DTSTART;TZID=America/Toronto:20250125T180000
DTEND;TZID=America/Toronto:20250125T210000
DTSTAMP:20260424T063245
CREATED:20250102T194449Z
LAST-MODIFIED:20250721T125441Z
UID:10001570-1737828000-1737838800@whitesquirrelgolfclub.com
SUMMARY:Live Music Every Saturday Night
DESCRIPTION:
URL:https://whitesquirrelgolfclub.com/event/live-music-every-saturday-night-2/2025-01-25/
END:VEVENT
BEGIN:VEVENT
DTSTART;TZID=America/Toronto:20250130T180000
DTEND;TZID=America/Toronto:20250130T210000
DTSTAMP:20260424T063245
CREATED:20231124T201038Z
LAST-MODIFIED:20251211T193538Z
UID:10001086-1738260000-1738270800@whitesquirrelgolfclub.com
SUMMARY:Wing Night & Jam Session with Dustin SkySmith
DESCRIPTION:Join us every Thursday night with Dustin SkySmith! \nWing Special: $10 1LB | $20 2LBS \n 
URL:https://whitesquirrelgolfclub.com/event/wing-night-jam-session-with-dustin-skysmith/2025-01-30/
END:VEVENT
BEGIN:VEVENT
DTSTART;TZID=America/Toronto:20250131T120000
DTEND;TZID=America/Toronto:20250131T200000
DTSTAMP:20260424T063245
CREATED:20231124T201842Z
LAST-MODIFIED:20251211T194455Z
UID:10003126-1738324800-1738353600@whitesquirrelgolfclub.com
SUMMARY:Fish & Chips Friday
DESCRIPTION:Dine-In Only\, enjoy our Fish & Chips on special\, 1 pc/ $16 | 2/pc $22
URL:https://whitesquirrelgolfclub.com/event/fish-chips-friday/2025-01-31/
END:VEVENT
BEGIN:VEVENT
DTSTART;TZID=America/Toronto:20250201T180000
DTEND;TZID=America/Toronto:20250201T210000
DTSTAMP:20260424T063245
CREATED:20250102T194449Z
LAST-MODIFIED:20250721T125441Z
UID:10001571-1738432800-1738443600@whitesquirrelgolfclub.com
SUMMARY:Live Music Every Saturday Night
DESCRIPTION:
URL:https://whitesquirrelgolfclub.com/event/live-music-every-saturday-night-2/2025-02-01/
END:VEVENT
BEGIN:VEVENT
DTSTART;TZID=America/Toronto:20250206T180000
DTEND;TZID=America/Toronto:20250206T210000
DTSTAMP:20260424T063245
CREATED:20231124T201038Z
LAST-MODIFIED:20251211T193538Z
UID:10001087-1738864800-1738875600@whitesquirrelgolfclub.com
SUMMARY:Wing Night & Jam Session with Dustin SkySmith
DESCRIPTION:Join us every Thursday night with Dustin SkySmith! \nWing Special: $10 1LB | $20 2LBS \n 
URL:https://whitesquirrelgolfclub.com/event/wing-night-jam-session-with-dustin-skysmith/2025-02-06/
END:VEVENT
BEGIN:VEVENT
DTSTART;TZID=America/Toronto:20250207T120000
DTEND;TZID=America/Toronto:20250207T200000
DTSTAMP:20260424T063245
CREATED:20231124T201842Z
LAST-MODIFIED:20251211T194455Z
UID:10003127-1738929600-1738958400@whitesquirrelgolfclub.com
SUMMARY:Fish & Chips Friday
DESCRIPTION:Dine-In Only\, enjoy our Fish & Chips on special\, 1 pc/ $16 | 2/pc $22
URL:https://whitesquirrelgolfclub.com/event/fish-chips-friday/2025-02-07/
END:VEVENT
BEGIN:VEVENT
DTSTART;TZID=America/Toronto:20250208T180000
DTEND;TZID=America/Toronto:20250208T210000
DTSTAMP:20260424T063245
CREATED:20250102T194449Z
LAST-MODIFIED:20250721T125441Z
UID:10001572-1739037600-1739048400@whitesquirrelgolfclub.com
SUMMARY:Live Music Every Saturday Night
DESCRIPTION:
URL:https://whitesquirrelgolfclub.com/event/live-music-every-saturday-night-2/2025-02-08/
END:VEVENT
BEGIN:VEVENT
DTSTART;TZID=America/Toronto:20250213T180000
DTEND;TZID=America/Toronto:20250213T210000
DTSTAMP:20260424T063245
CREATED:20231124T201038Z
LAST-MODIFIED:20251211T193538Z
UID:10001088-1739469600-1739480400@whitesquirrelgolfclub.com
SUMMARY:Wing Night & Jam Session with Dustin SkySmith
DESCRIPTION:Join us every Thursday night with Dustin SkySmith! \nWing Special: $10 1LB | $20 2LBS \n 
URL:https://whitesquirrelgolfclub.com/event/wing-night-jam-session-with-dustin-skysmith/2025-02-13/
END:VEVENT
BEGIN:VEVENT
DTSTART;TZID=America/Toronto:20250214T120000
DTEND;TZID=America/Toronto:20250214T200000
DTSTAMP:20260424T063245
CREATED:20231124T201842Z
LAST-MODIFIED:20251211T194455Z
UID:10003128-1739534400-1739563200@whitesquirrelgolfclub.com
SUMMARY:Fish & Chips Friday
DESCRIPTION:Dine-In Only\, enjoy our Fish & Chips on special\, 1 pc/ $16 | 2/pc $22
URL:https://whitesquirrelgolfclub.com/event/fish-chips-friday/2025-02-14/
END:VEVENT
BEGIN:VEVENT
DTSTART;TZID=America/Toronto:20250215T180000
DTEND;TZID=America/Toronto:20250215T210000
DTSTAMP:20260424T063245
CREATED:20250102T194449Z
LAST-MODIFIED:20250721T125441Z
UID:10001573-1739642400-1739653200@whitesquirrelgolfclub.com
SUMMARY:Live Music Every Saturday Night
DESCRIPTION:
URL:https://whitesquirrelgolfclub.com/event/live-music-every-saturday-night-2/2025-02-15/
END:VEVENT
BEGIN:VEVENT
DTSTART;TZID=America/Toronto:20250220T180000
DTEND;TZID=America/Toronto:20250220T210000
DTSTAMP:20260424T063245
CREATED:20231124T201038Z
LAST-MODIFIED:20251211T193538Z
UID:10001089-1740074400-1740085200@whitesquirrelgolfclub.com
SUMMARY:Wing Night & Jam Session with Dustin SkySmith
DESCRIPTION:Join us every Thursday night with Dustin SkySmith! \nWing Special: $10 1LB | $20 2LBS \n 
URL:https://whitesquirrelgolfclub.com/event/wing-night-jam-session-with-dustin-skysmith/2025-02-20/
END:VEVENT
BEGIN:VEVENT
DTSTART;TZID=America/Toronto:20250221T120000
DTEND;TZID=America/Toronto:20250221T200000
DTSTAMP:20260424T063245
CREATED:20231124T201842Z
LAST-MODIFIED:20251211T194455Z
UID:10003129-1740139200-1740168000@whitesquirrelgolfclub.com
SUMMARY:Fish & Chips Friday
DESCRIPTION:Dine-In Only\, enjoy our Fish & Chips on special\, 1 pc/ $16 | 2/pc $22
URL:https://whitesquirrelgolfclub.com/event/fish-chips-friday/2025-02-21/
END:VEVENT
BEGIN:VEVENT
DTSTART;TZID=America/Toronto:20250222T180000
DTEND;TZID=America/Toronto:20250222T210000
DTSTAMP:20260424T063245
CREATED:20250102T194449Z
LAST-MODIFIED:20250721T125441Z
UID:10001574-1740247200-1740258000@whitesquirrelgolfclub.com
SUMMARY:Live Music Every Saturday Night
DESCRIPTION:
URL:https://whitesquirrelgolfclub.com/event/live-music-every-saturday-night-2/2025-02-22/
END:VEVENT
BEGIN:VEVENT
DTSTART;TZID=America/Toronto:20250227T180000
DTEND;TZID=America/Toronto:20250227T210000
DTSTAMP:20260424T063245
CREATED:20231124T201038Z
LAST-MODIFIED:20251211T193538Z
UID:10001090-1740679200-1740690000@whitesquirrelgolfclub.com
SUMMARY:Wing Night & Jam Session with Dustin SkySmith
DESCRIPTION:Join us every Thursday night with Dustin SkySmith! \nWing Special: $10 1LB | $20 2LBS \n 
URL:https://whitesquirrelgolfclub.com/event/wing-night-jam-session-with-dustin-skysmith/2025-02-27/
END:VEVENT
BEGIN:VEVENT
DTSTART;TZID=America/Toronto:20250228T120000
DTEND;TZID=America/Toronto:20250228T200000
DTSTAMP:20260424T063245
CREATED:20231124T201842Z
LAST-MODIFIED:20251211T194455Z
UID:10003130-1740744000-1740772800@whitesquirrelgolfclub.com
SUMMARY:Fish & Chips Friday
DESCRIPTION:Dine-In Only\, enjoy our Fish & Chips on special\, 1 pc/ $16 | 2/pc $22
URL:https://whitesquirrelgolfclub.com/event/fish-chips-friday/2025-02-28/
END:VEVENT
BEGIN:VEVENT
DTSTART;TZID=America/Toronto:20250301T180000
DTEND;TZID=America/Toronto:20250301T210000
DTSTAMP:20260424T063245
CREATED:20250102T194449Z
LAST-MODIFIED:20250721T125441Z
UID:10001575-1740852000-1740862800@whitesquirrelgolfclub.com
SUMMARY:Live Music Every Saturday Night
DESCRIPTION:
URL:https://whitesquirrelgolfclub.com/event/live-music-every-saturday-night-2/2025-03-01/
END:VEVENT
BEGIN:VEVENT
DTSTART;TZID=America/Toronto:20250306T180000
DTEND;TZID=America/Toronto:20250306T210000
DTSTAMP:20260424T063245
CREATED:20231124T201038Z
LAST-MODIFIED:20251211T193538Z
UID:10001091-1741284000-1741294800@whitesquirrelgolfclub.com
SUMMARY:Wing Night & Jam Session with Dustin SkySmith
DESCRIPTION:Join us every Thursday night with Dustin SkySmith! \nWing Special: $10 1LB | $20 2LBS \n 
URL:https://whitesquirrelgolfclub.com/event/wing-night-jam-session-with-dustin-skysmith/2025-03-06/
END:VEVENT
BEGIN:VEVENT
DTSTART;TZID=America/Toronto:20250307T120000
DTEND;TZID=America/Toronto:20250307T200000
DTSTAMP:20260424T063245
CREATED:20231124T201842Z
LAST-MODIFIED:20251211T194455Z
UID:10003131-1741348800-1741377600@whitesquirrelgolfclub.com
SUMMARY:Fish & Chips Friday
DESCRIPTION:Dine-In Only\, enjoy our Fish & Chips on special\, 1 pc/ $16 | 2/pc $22
URL:https://whitesquirrelgolfclub.com/event/fish-chips-friday/2025-03-07/
END:VEVENT
BEGIN:VEVENT
DTSTART;TZID=America/Toronto:20250308T180000
DTEND;TZID=America/Toronto:20250308T210000
DTSTAMP:20260424T063245
CREATED:20250102T194449Z
LAST-MODIFIED:20250721T125441Z
UID:10001576-1741456800-1741467600@whitesquirrelgolfclub.com
SUMMARY:Live Music Every Saturday Night
DESCRIPTION:
URL:https://whitesquirrelgolfclub.com/event/live-music-every-saturday-night-2/2025-03-08/
END:VEVENT
BEGIN:VEVENT
DTSTART;TZID=America/Toronto:20250313T180000
DTEND;TZID=America/Toronto:20250313T210000
DTSTAMP:20260424T063245
CREATED:20231124T201038Z
LAST-MODIFIED:20251211T193538Z
UID:10001092-1741888800-1741899600@whitesquirrelgolfclub.com
SUMMARY:Wing Night & Jam Session with Dustin SkySmith
DESCRIPTION:Join us every Thursday night with Dustin SkySmith! \nWing Special: $10 1LB | $20 2LBS \n 
URL:https://whitesquirrelgolfclub.com/event/wing-night-jam-session-with-dustin-skysmith/2025-03-13/
END:VEVENT
BEGIN:VEVENT
DTSTART;TZID=America/Toronto:20250314T120000
DTEND;TZID=America/Toronto:20250314T200000
DTSTAMP:20260424T063245
CREATED:20231124T201842Z
LAST-MODIFIED:20251211T194455Z
UID:10003132-1741953600-1741982400@whitesquirrelgolfclub.com
SUMMARY:Fish & Chips Friday
DESCRIPTION:Dine-In Only\, enjoy our Fish & Chips on special\, 1 pc/ $16 | 2/pc $22
URL:https://whitesquirrelgolfclub.com/event/fish-chips-friday/2025-03-14/
END:VEVENT
BEGIN:VEVENT
DTSTART;TZID=America/Toronto:20250315T180000
DTEND;TZID=America/Toronto:20250315T210000
DTSTAMP:20260424T063245
CREATED:20250102T194449Z
LAST-MODIFIED:20250721T125441Z
UID:10001577-1742061600-1742072400@whitesquirrelgolfclub.com
SUMMARY:Live Music Every Saturday Night
DESCRIPTION:
URL:https://whitesquirrelgolfclub.com/event/live-music-every-saturday-night-2/2025-03-15/
END:VEVENT
BEGIN:VEVENT
DTSTART;TZID=America/Toronto:20250320T180000
DTEND;TZID=America/Toronto:20250320T210000
DTSTAMP:20260424T063245
CREATED:20231124T201038Z
LAST-MODIFIED:20251211T193538Z
UID:10001093-1742493600-1742504400@whitesquirrelgolfclub.com
SUMMARY:Wing Night & Jam Session with Dustin SkySmith
DESCRIPTION:Join us every Thursday night with Dustin SkySmith! \nWing Special: $10 1LB | $20 2LBS \n 
URL:https://whitesquirrelgolfclub.com/event/wing-night-jam-session-with-dustin-skysmith/2025-03-20/
END:VEVENT
BEGIN:VEVENT
DTSTART;TZID=America/Toronto:20250321T120000
DTEND;TZID=America/Toronto:20250321T200000
DTSTAMP:20260424T063245
CREATED:20231124T201842Z
LAST-MODIFIED:20251211T194455Z
UID:10003133-1742558400-1742587200@whitesquirrelgolfclub.com
SUMMARY:Fish & Chips Friday
DESCRIPTION:Dine-In Only\, enjoy our Fish & Chips on special\, 1 pc/ $16 | 2/pc $22
URL:https://whitesquirrelgolfclub.com/event/fish-chips-friday/2025-03-21/
END:VEVENT
BEGIN:VEVENT
DTSTART;TZID=America/Toronto:20250322T180000
DTEND;TZID=America/Toronto:20250322T210000
DTSTAMP:20260424T063245
CREATED:20250102T194449Z
LAST-MODIFIED:20250721T125441Z
UID:10001578-1742666400-1742677200@whitesquirrelgolfclub.com
SUMMARY:Live Music Every Saturday Night
DESCRIPTION:
URL:https://whitesquirrelgolfclub.com/event/live-music-every-saturday-night-2/2025-03-22/
END:VEVENT
BEGIN:VEVENT
DTSTART;TZID=America/Toronto:20250327T180000
DTEND;TZID=America/Toronto:20250327T210000
DTSTAMP:20260424T063245
CREATED:20231124T201038Z
LAST-MODIFIED:20251211T193538Z
UID:10001094-1743098400-1743109200@whitesquirrelgolfclub.com
SUMMARY:Wing Night & Jam Session with Dustin SkySmith
DESCRIPTION:Join us every Thursday night with Dustin SkySmith! \nWing Special: $10 1LB | $20 2LBS \n 
URL:https://whitesquirrelgolfclub.com/event/wing-night-jam-session-with-dustin-skysmith/2025-03-27/
END:VEVENT
BEGIN:VEVENT
DTSTART;TZID=America/Toronto:20250328T120000
DTEND;TZID=America/Toronto:20250328T200000
DTSTAMP:20260424T063245
CREATED:20231124T201842Z
LAST-MODIFIED:20251211T194455Z
UID:10003134-1743163200-1743192000@whitesquirrelgolfclub.com
SUMMARY:Fish & Chips Friday
DESCRIPTION:Dine-In Only\, enjoy our Fish & Chips on special\, 1 pc/ $16 | 2/pc $22
URL:https://whitesquirrelgolfclub.com/event/fish-chips-friday/2025-03-28/
END:VEVENT
BEGIN:VEVENT
DTSTART;TZID=America/Toronto:20250329T180000
DTEND;TZID=America/Toronto:20250329T210000
DTSTAMP:20260424T063245
CREATED:20250102T194449Z
LAST-MODIFIED:20250721T125441Z
UID:10001579-1743271200-1743282000@whitesquirrelgolfclub.com
SUMMARY:Live Music Every Saturday Night
DESCRIPTION:
URL:https://whitesquirrelgolfclub.com/event/live-music-every-saturday-night-2/2025-03-29/
END:VEVENT
END:VCALENDAR