BEGIN:VCALENDAR
VERSION:2.0
PRODID:-//White Squirrel Golf Club &amp; Restaurant | Zurich, Ontario - ECPv6.15.17.1//NONSGML v1.0//EN
CALSCALE:GREGORIAN
METHOD:PUBLISH
X-ORIGINAL-URL:https://whitesquirrelgolfclub.com
X-WR-CALDESC:Events for White Squirrel Golf Club &amp; Restaurant | Zurich, Ontario
REFRESH-INTERVAL;VALUE=DURATION:PT1H
X-Robots-Tag:noindex
X-PUBLISHED-TTL:PT1H
BEGIN:VTIMEZONE
TZID:America/Toronto
BEGIN:DAYLIGHT
TZOFFSETFROM:-0500
TZOFFSETTO:-0400
TZNAME:EDT
DTSTART:20240310T070000
END:DAYLIGHT
BEGIN:STANDARD
TZOFFSETFROM:-0400
TZOFFSETTO:-0500
TZNAME:EST
DTSTART:20241103T060000
END:STANDARD
BEGIN:DAYLIGHT
TZOFFSETFROM:-0500
TZOFFSETTO:-0400
TZNAME:EDT
DTSTART:20250309T070000
END:DAYLIGHT
BEGIN:STANDARD
TZOFFSETFROM:-0400
TZOFFSETTO:-0500
TZNAME:EST
DTSTART:20251102T060000
END:STANDARD
BEGIN:DAYLIGHT
TZOFFSETFROM:-0500
TZOFFSETTO:-0400
TZNAME:EDT
DTSTART:20260308T070000
END:DAYLIGHT
BEGIN:STANDARD
TZOFFSETFROM:-0400
TZOFFSETTO:-0500
TZNAME:EST
DTSTART:20261101T060000
END:STANDARD
END:VTIMEZONE
BEGIN:VEVENT
DTSTART;TZID=America/Toronto:20250620T120000
DTEND;TZID=America/Toronto:20250620T200000
DTSTAMP:20260425T062208
CREATED:20231124T201842Z
LAST-MODIFIED:20251211T194455Z
UID:10003146-1750420800-1750449600@whitesquirrelgolfclub.com
SUMMARY:Fish & Chips Friday
DESCRIPTION:Dine-In Only\, enjoy our Fish & Chips on special\, 1 pc/ $16 | 2/pc $22
URL:https://whitesquirrelgolfclub.com/event/fish-chips-friday/2025-06-20/
END:VEVENT
BEGIN:VEVENT
DTSTART;TZID=America/Toronto:20250621T180000
DTEND;TZID=America/Toronto:20250621T210000
DTSTAMP:20260425T062208
CREATED:20250102T194449Z
LAST-MODIFIED:20250721T125441Z
UID:10001591-1750528800-1750539600@whitesquirrelgolfclub.com
SUMMARY:Live Music Every Saturday Night
DESCRIPTION:
URL:https://whitesquirrelgolfclub.com/event/live-music-every-saturday-night-2/2025-06-21/
END:VEVENT
BEGIN:VEVENT
DTSTART;TZID=America/Toronto:20250623T074500
DTEND;TZID=America/Toronto:20250623T120000
DTSTAMP:20260425T062208
CREATED:20250318T132440Z
LAST-MODIFIED:20250318T132631Z
UID:10001835-1750664700-1750680000@whitesquirrelgolfclub.com
SUMMARY:Senior Men's League
DESCRIPTION:Senior Men’s League \nBy Registration Only \n9 holes on Monday mornings for fun\, socializing\, and friendly competition. Foursomes change weekly so you can golf with different people. 19 weeks of golf total. \n\nTee-times assigned weekly from 7:45AM-12:00PM\nIndicate by the Wednesday before if you are not playing the following Monday\nStart: Monday\, May 5th\nClosing: Monday\, Sept. 22nd 10:00AM Shotgun\nRegistration Fees:\n\n\n\nWhite Squirrel Club Members $70+hst\nPublic Players $509+hst\n\n\n\n\nMax 120 Players
URL:https://whitesquirrelgolfclub.com/event/senior-mens-league/2025-06-23/
END:VEVENT
BEGIN:VEVENT
DTSTART;VALUE=DATE:20250624
DTEND;VALUE=DATE:20250625
DTSTAMP:20260425T062208
CREATED:20250318T145350Z
LAST-MODIFIED:20250318T145350Z
UID:10002344-1750723200-1750809599@whitesquirrelgolfclub.com
SUMMARY:Men's League
DESCRIPTION:Men’s League \nBy Registration Only \n9 holes on Tuesday for fun\, socializing\, and friendly competition. You can choose to sign up with a foursome and keep the same foursome through the year\, or opt for one of our rotating groups that change weekly so you can golf with different people. \n\nTee-times assigned so you don’t have to book each week\nTee-time requests will be honored based on time of registration\nStart: Tuesday\, May 12th\nLast Week of Play: Tuesday\, September 16th\nClosing Tournament: Sunday\, September 21st 10:00AM Shotgun\nRegistration Fees (now includes Golf Canada Membership!)\n\n\n\nWhite Squirrel Club Members $99+hst\nPublic Players $609+hst\n\n\n\n\nMax 144 players
URL:https://whitesquirrelgolfclub.com/event/mens-league/2025-06-24/
END:VEVENT
BEGIN:VEVENT
DTSTART;VALUE=DATE:20250625
DTEND;VALUE=DATE:20250626
DTSTAMP:20260425T062208
CREATED:20250318T145932Z
LAST-MODIFIED:20250318T145932Z
UID:10002381-1750809600-1750895999@whitesquirrelgolfclub.com
SUMMARY:Par-tee Ladies' League
DESCRIPTION:Par-tee Ladies’ League  \nBy Registration Only \n9 holes on Wednesdays for fun\, socializing\, and friendly competition. Weekly ringer board and low putt prize. \n\nBook your tee-times up to 14 days (members) or 7 days (public players) in advance\nPlay anytime on Wednesdays\, you can choose to play 9 or 18 holes\, however only 9 holes will count toward your league scoring\nStart: Wednesday\, May 21st\nClosing: Wednesday\, August 27th 5:00PM Shotgun & Dinner\nRegistration Fee -Includes wrap-up dinner:\n\n\n\nWhite Squirrel Club Members $49+hst\nPublic Players $49+hst\n\n\n\n\nWeekly greenfees are not included
URL:https://whitesquirrelgolfclub.com/event/par-tee-ladies-league/2025-06-25/
END:VEVENT
BEGIN:VEVENT
DTSTART;TZID=America/Toronto:20250626T080000
DTEND;TZID=America/Toronto:20250626T113000
DTSTAMP:20260425T062208
CREATED:20250318T150121Z
LAST-MODIFIED:20250318T150121Z
UID:10002413-1750924800-1750937400@whitesquirrelgolfclub.com
SUMMARY:Ladies' League
DESCRIPTION:Ladies’ League  \nBy Registration Only \n9 holes on Thursday mornings for fun\, socializing\, and friendly competition. You can choose to sign up with a foursome and keep the same foursome through the year\, or opt for one of our rotating groups that change weekly so you can golf with different people. 20 weeks of golf total. \n\nTee-times assigned for the season from 8:00AM-11:30AM\nTee-time requests will be honored based on time of registration\nStart: Thursday\, May 8th\nLeague Closing & Luncheon: Thursday\, Sept 18th 10:00AM Shotgun\nRegistration Fee:\n\n\n\nWhite Squirrel Club Members $49+hst\nPublic Players $509+hst\n\n\n\n\nMax 100 players
URL:https://whitesquirrelgolfclub.com/event/ladies-league/2025-06-26/
END:VEVENT
BEGIN:VEVENT
DTSTART;TZID=America/Toronto:20250626T180000
DTEND;TZID=America/Toronto:20250626T210000
DTSTAMP:20260425T062208
CREATED:20231124T201038Z
LAST-MODIFIED:20251211T193538Z
UID:10002438-1750960800-1750971600@whitesquirrelgolfclub.com
SUMMARY:Wing Night & Jam Session with Dustin SkySmith
DESCRIPTION:Join us every Thursday night with Dustin SkySmith! \nWing Special: $10 1LB | $20 2LBS \n 
URL:https://whitesquirrelgolfclub.com/event/wing-night-jam-session-with-dustin-skysmith/2025-06-26/
END:VEVENT
BEGIN:VEVENT
DTSTART;TZID=America/Toronto:20250627T120000
DTEND;TZID=America/Toronto:20250627T200000
DTSTAMP:20260425T062208
CREATED:20231124T201842Z
LAST-MODIFIED:20251211T194455Z
UID:10003147-1751025600-1751054400@whitesquirrelgolfclub.com
SUMMARY:Fish & Chips Friday
DESCRIPTION:Dine-In Only\, enjoy our Fish & Chips on special\, 1 pc/ $16 | 2/pc $22
URL:https://whitesquirrelgolfclub.com/event/fish-chips-friday/2025-06-27/
END:VEVENT
BEGIN:VEVENT
DTSTART;TZID=America/Toronto:20250628T180000
DTEND;TZID=America/Toronto:20250628T210000
DTSTAMP:20260425T062208
CREATED:20250102T194449Z
LAST-MODIFIED:20250721T125441Z
UID:10001592-1751133600-1751144400@whitesquirrelgolfclub.com
SUMMARY:Live Music Every Saturday Night
DESCRIPTION:
URL:https://whitesquirrelgolfclub.com/event/live-music-every-saturday-night-2/2025-06-28/
END:VEVENT
BEGIN:VEVENT
DTSTART;TZID=America/Toronto:20250630T074500
DTEND;TZID=America/Toronto:20250630T120000
DTSTAMP:20260425T062208
CREATED:20250318T132440Z
LAST-MODIFIED:20250318T132631Z
UID:10001836-1751269500-1751284800@whitesquirrelgolfclub.com
SUMMARY:Senior Men's League
DESCRIPTION:Senior Men’s League \nBy Registration Only \n9 holes on Monday mornings for fun\, socializing\, and friendly competition. Foursomes change weekly so you can golf with different people. 19 weeks of golf total. \n\nTee-times assigned weekly from 7:45AM-12:00PM\nIndicate by the Wednesday before if you are not playing the following Monday\nStart: Monday\, May 5th\nClosing: Monday\, Sept. 22nd 10:00AM Shotgun\nRegistration Fees:\n\n\n\nWhite Squirrel Club Members $70+hst\nPublic Players $509+hst\n\n\n\n\nMax 120 Players
URL:https://whitesquirrelgolfclub.com/event/senior-mens-league/2025-06-30/
END:VEVENT
BEGIN:VEVENT
DTSTART;VALUE=DATE:20250701
DTEND;VALUE=DATE:20250702
DTSTAMP:20260425T062208
CREATED:20250318T145350Z
LAST-MODIFIED:20250318T145350Z
UID:10002345-1751328000-1751414399@whitesquirrelgolfclub.com
SUMMARY:Men's League
DESCRIPTION:Men’s League \nBy Registration Only \n9 holes on Tuesday for fun\, socializing\, and friendly competition. You can choose to sign up with a foursome and keep the same foursome through the year\, or opt for one of our rotating groups that change weekly so you can golf with different people. \n\nTee-times assigned so you don’t have to book each week\nTee-time requests will be honored based on time of registration\nStart: Tuesday\, May 12th\nLast Week of Play: Tuesday\, September 16th\nClosing Tournament: Sunday\, September 21st 10:00AM Shotgun\nRegistration Fees (now includes Golf Canada Membership!)\n\n\n\nWhite Squirrel Club Members $99+hst\nPublic Players $609+hst\n\n\n\n\nMax 144 players
URL:https://whitesquirrelgolfclub.com/event/mens-league/2025-07-01/
END:VEVENT
BEGIN:VEVENT
DTSTART;VALUE=DATE:20250702
DTEND;VALUE=DATE:20250703
DTSTAMP:20260425T062208
CREATED:20250318T145932Z
LAST-MODIFIED:20250318T145932Z
UID:10002382-1751414400-1751500799@whitesquirrelgolfclub.com
SUMMARY:Par-tee Ladies' League
DESCRIPTION:Par-tee Ladies’ League  \nBy Registration Only \n9 holes on Wednesdays for fun\, socializing\, and friendly competition. Weekly ringer board and low putt prize. \n\nBook your tee-times up to 14 days (members) or 7 days (public players) in advance\nPlay anytime on Wednesdays\, you can choose to play 9 or 18 holes\, however only 9 holes will count toward your league scoring\nStart: Wednesday\, May 21st\nClosing: Wednesday\, August 27th 5:00PM Shotgun & Dinner\nRegistration Fee -Includes wrap-up dinner:\n\n\n\nWhite Squirrel Club Members $49+hst\nPublic Players $49+hst\n\n\n\n\nWeekly greenfees are not included
URL:https://whitesquirrelgolfclub.com/event/par-tee-ladies-league/2025-07-02/
END:VEVENT
BEGIN:VEVENT
DTSTART;TZID=America/Toronto:20250703T080000
DTEND;TZID=America/Toronto:20250703T113000
DTSTAMP:20260425T062208
CREATED:20250318T150121Z
LAST-MODIFIED:20250318T150121Z
UID:10002414-1751529600-1751542200@whitesquirrelgolfclub.com
SUMMARY:Ladies' League
DESCRIPTION:Ladies’ League  \nBy Registration Only \n9 holes on Thursday mornings for fun\, socializing\, and friendly competition. You can choose to sign up with a foursome and keep the same foursome through the year\, or opt for one of our rotating groups that change weekly so you can golf with different people. 20 weeks of golf total. \n\nTee-times assigned for the season from 8:00AM-11:30AM\nTee-time requests will be honored based on time of registration\nStart: Thursday\, May 8th\nLeague Closing & Luncheon: Thursday\, Sept 18th 10:00AM Shotgun\nRegistration Fee:\n\n\n\nWhite Squirrel Club Members $49+hst\nPublic Players $509+hst\n\n\n\n\nMax 100 players
URL:https://whitesquirrelgolfclub.com/event/ladies-league/2025-07-03/
END:VEVENT
BEGIN:VEVENT
DTSTART;TZID=America/Toronto:20250703T180000
DTEND;TZID=America/Toronto:20250703T210000
DTSTAMP:20260425T062208
CREATED:20231124T201038Z
LAST-MODIFIED:20251211T193538Z
UID:10002439-1751565600-1751576400@whitesquirrelgolfclub.com
SUMMARY:Wing Night & Jam Session with Dustin SkySmith
DESCRIPTION:Join us every Thursday night with Dustin SkySmith! \nWing Special: $10 1LB | $20 2LBS \n 
URL:https://whitesquirrelgolfclub.com/event/wing-night-jam-session-with-dustin-skysmith/2025-07-03/
END:VEVENT
BEGIN:VEVENT
DTSTART;TZID=America/Toronto:20250704T120000
DTEND;TZID=America/Toronto:20250704T200000
DTSTAMP:20260425T062208
CREATED:20231124T201842Z
LAST-MODIFIED:20251211T194455Z
UID:10003148-1751630400-1751659200@whitesquirrelgolfclub.com
SUMMARY:Fish & Chips Friday
DESCRIPTION:Dine-In Only\, enjoy our Fish & Chips on special\, 1 pc/ $16 | 2/pc $22
URL:https://whitesquirrelgolfclub.com/event/fish-chips-friday/2025-07-04/
END:VEVENT
BEGIN:VEVENT
DTSTART;TZID=America/Toronto:20250705T180000
DTEND;TZID=America/Toronto:20250705T210000
DTSTAMP:20260425T062208
CREATED:20250102T194449Z
LAST-MODIFIED:20250721T125441Z
UID:10001593-1751738400-1751749200@whitesquirrelgolfclub.com
SUMMARY:Live Music Every Saturday Night
DESCRIPTION:
URL:https://whitesquirrelgolfclub.com/event/live-music-every-saturday-night-2/2025-07-05/
END:VEVENT
BEGIN:VEVENT
DTSTART;TZID=America/Toronto:20250707T074500
DTEND;TZID=America/Toronto:20250707T120000
DTSTAMP:20260425T062208
CREATED:20250318T132440Z
LAST-MODIFIED:20250318T132631Z
UID:10001837-1751874300-1751889600@whitesquirrelgolfclub.com
SUMMARY:Senior Men's League
DESCRIPTION:Senior Men’s League \nBy Registration Only \n9 holes on Monday mornings for fun\, socializing\, and friendly competition. Foursomes change weekly so you can golf with different people. 19 weeks of golf total. \n\nTee-times assigned weekly from 7:45AM-12:00PM\nIndicate by the Wednesday before if you are not playing the following Monday\nStart: Monday\, May 5th\nClosing: Monday\, Sept. 22nd 10:00AM Shotgun\nRegistration Fees:\n\n\n\nWhite Squirrel Club Members $70+hst\nPublic Players $509+hst\n\n\n\n\nMax 120 Players
URL:https://whitesquirrelgolfclub.com/event/senior-mens-league/2025-07-07/
END:VEVENT
BEGIN:VEVENT
DTSTART;VALUE=DATE:20250708
DTEND;VALUE=DATE:20250709
DTSTAMP:20260425T062208
CREATED:20250318T145350Z
LAST-MODIFIED:20250318T145350Z
UID:10002346-1751932800-1752019199@whitesquirrelgolfclub.com
SUMMARY:Men's League
DESCRIPTION:Men’s League \nBy Registration Only \n9 holes on Tuesday for fun\, socializing\, and friendly competition. You can choose to sign up with a foursome and keep the same foursome through the year\, or opt for one of our rotating groups that change weekly so you can golf with different people. \n\nTee-times assigned so you don’t have to book each week\nTee-time requests will be honored based on time of registration\nStart: Tuesday\, May 12th\nLast Week of Play: Tuesday\, September 16th\nClosing Tournament: Sunday\, September 21st 10:00AM Shotgun\nRegistration Fees (now includes Golf Canada Membership!)\n\n\n\nWhite Squirrel Club Members $99+hst\nPublic Players $609+hst\n\n\n\n\nMax 144 players
URL:https://whitesquirrelgolfclub.com/event/mens-league/2025-07-08/
END:VEVENT
BEGIN:VEVENT
DTSTART;VALUE=DATE:20250709
DTEND;VALUE=DATE:20250710
DTSTAMP:20260425T062208
CREATED:20250318T145932Z
LAST-MODIFIED:20250318T145932Z
UID:10002383-1752019200-1752105599@whitesquirrelgolfclub.com
SUMMARY:Par-tee Ladies' League
DESCRIPTION:Par-tee Ladies’ League  \nBy Registration Only \n9 holes on Wednesdays for fun\, socializing\, and friendly competition. Weekly ringer board and low putt prize. \n\nBook your tee-times up to 14 days (members) or 7 days (public players) in advance\nPlay anytime on Wednesdays\, you can choose to play 9 or 18 holes\, however only 9 holes will count toward your league scoring\nStart: Wednesday\, May 21st\nClosing: Wednesday\, August 27th 5:00PM Shotgun & Dinner\nRegistration Fee -Includes wrap-up dinner:\n\n\n\nWhite Squirrel Club Members $49+hst\nPublic Players $49+hst\n\n\n\n\nWeekly greenfees are not included
URL:https://whitesquirrelgolfclub.com/event/par-tee-ladies-league/2025-07-09/
END:VEVENT
BEGIN:VEVENT
DTSTART;TZID=America/Toronto:20250710T080000
DTEND;TZID=America/Toronto:20250710T113000
DTSTAMP:20260425T062208
CREATED:20250318T150121Z
LAST-MODIFIED:20250318T150121Z
UID:10002415-1752134400-1752147000@whitesquirrelgolfclub.com
SUMMARY:Ladies' League
DESCRIPTION:Ladies’ League  \nBy Registration Only \n9 holes on Thursday mornings for fun\, socializing\, and friendly competition. You can choose to sign up with a foursome and keep the same foursome through the year\, or opt for one of our rotating groups that change weekly so you can golf with different people. 20 weeks of golf total. \n\nTee-times assigned for the season from 8:00AM-11:30AM\nTee-time requests will be honored based on time of registration\nStart: Thursday\, May 8th\nLeague Closing & Luncheon: Thursday\, Sept 18th 10:00AM Shotgun\nRegistration Fee:\n\n\n\nWhite Squirrel Club Members $49+hst\nPublic Players $509+hst\n\n\n\n\nMax 100 players
URL:https://whitesquirrelgolfclub.com/event/ladies-league/2025-07-10/
END:VEVENT
BEGIN:VEVENT
DTSTART;TZID=America/Toronto:20250710T180000
DTEND;TZID=America/Toronto:20250710T210000
DTSTAMP:20260425T062208
CREATED:20231124T201038Z
LAST-MODIFIED:20251211T193538Z
UID:10002440-1752170400-1752181200@whitesquirrelgolfclub.com
SUMMARY:Wing Night & Jam Session with Dustin SkySmith
DESCRIPTION:Join us every Thursday night with Dustin SkySmith! \nWing Special: $10 1LB | $20 2LBS \n 
URL:https://whitesquirrelgolfclub.com/event/wing-night-jam-session-with-dustin-skysmith/2025-07-10/
END:VEVENT
BEGIN:VEVENT
DTSTART;TZID=America/Toronto:20250711T120000
DTEND;TZID=America/Toronto:20250711T200000
DTSTAMP:20260425T062208
CREATED:20231124T201842Z
LAST-MODIFIED:20251211T194455Z
UID:10003149-1752235200-1752264000@whitesquirrelgolfclub.com
SUMMARY:Fish & Chips Friday
DESCRIPTION:Dine-In Only\, enjoy our Fish & Chips on special\, 1 pc/ $16 | 2/pc $22
URL:https://whitesquirrelgolfclub.com/event/fish-chips-friday/2025-07-11/
END:VEVENT
BEGIN:VEVENT
DTSTART;TZID=America/Toronto:20250712T180000
DTEND;TZID=America/Toronto:20250712T210000
DTSTAMP:20260425T062208
CREATED:20250102T194449Z
LAST-MODIFIED:20250721T125441Z
UID:10001594-1752343200-1752354000@whitesquirrelgolfclub.com
SUMMARY:Live Music Every Saturday Night
DESCRIPTION:
URL:https://whitesquirrelgolfclub.com/event/live-music-every-saturday-night-2/2025-07-12/
END:VEVENT
BEGIN:VEVENT
DTSTART;TZID=America/Toronto:20250714T074500
DTEND;TZID=America/Toronto:20250714T120000
DTSTAMP:20260425T062208
CREATED:20250318T132440Z
LAST-MODIFIED:20250318T132631Z
UID:10001838-1752479100-1752494400@whitesquirrelgolfclub.com
SUMMARY:Senior Men's League
DESCRIPTION:Senior Men’s League \nBy Registration Only \n9 holes on Monday mornings for fun\, socializing\, and friendly competition. Foursomes change weekly so you can golf with different people. 19 weeks of golf total. \n\nTee-times assigned weekly from 7:45AM-12:00PM\nIndicate by the Wednesday before if you are not playing the following Monday\nStart: Monday\, May 5th\nClosing: Monday\, Sept. 22nd 10:00AM Shotgun\nRegistration Fees:\n\n\n\nWhite Squirrel Club Members $70+hst\nPublic Players $509+hst\n\n\n\n\nMax 120 Players
URL:https://whitesquirrelgolfclub.com/event/senior-mens-league/2025-07-14/
END:VEVENT
BEGIN:VEVENT
DTSTART;VALUE=DATE:20250715
DTEND;VALUE=DATE:20250716
DTSTAMP:20260425T062208
CREATED:20250318T145350Z
LAST-MODIFIED:20250318T145350Z
UID:10002347-1752537600-1752623999@whitesquirrelgolfclub.com
SUMMARY:Men's League
DESCRIPTION:Men’s League \nBy Registration Only \n9 holes on Tuesday for fun\, socializing\, and friendly competition. You can choose to sign up with a foursome and keep the same foursome through the year\, or opt for one of our rotating groups that change weekly so you can golf with different people. \n\nTee-times assigned so you don’t have to book each week\nTee-time requests will be honored based on time of registration\nStart: Tuesday\, May 12th\nLast Week of Play: Tuesday\, September 16th\nClosing Tournament: Sunday\, September 21st 10:00AM Shotgun\nRegistration Fees (now includes Golf Canada Membership!)\n\n\n\nWhite Squirrel Club Members $99+hst\nPublic Players $609+hst\n\n\n\n\nMax 144 players
URL:https://whitesquirrelgolfclub.com/event/mens-league/2025-07-15/
END:VEVENT
BEGIN:VEVENT
DTSTART;VALUE=DATE:20250716
DTEND;VALUE=DATE:20250717
DTSTAMP:20260425T062208
CREATED:20250318T145932Z
LAST-MODIFIED:20250318T145932Z
UID:10002384-1752624000-1752710399@whitesquirrelgolfclub.com
SUMMARY:Par-tee Ladies' League
DESCRIPTION:Par-tee Ladies’ League  \nBy Registration Only \n9 holes on Wednesdays for fun\, socializing\, and friendly competition. Weekly ringer board and low putt prize. \n\nBook your tee-times up to 14 days (members) or 7 days (public players) in advance\nPlay anytime on Wednesdays\, you can choose to play 9 or 18 holes\, however only 9 holes will count toward your league scoring\nStart: Wednesday\, May 21st\nClosing: Wednesday\, August 27th 5:00PM Shotgun & Dinner\nRegistration Fee -Includes wrap-up dinner:\n\n\n\nWhite Squirrel Club Members $49+hst\nPublic Players $49+hst\n\n\n\n\nWeekly greenfees are not included
URL:https://whitesquirrelgolfclub.com/event/par-tee-ladies-league/2025-07-16/
END:VEVENT
BEGIN:VEVENT
DTSTART;TZID=America/Toronto:20250717T080000
DTEND;TZID=America/Toronto:20250717T113000
DTSTAMP:20260425T062208
CREATED:20250318T150121Z
LAST-MODIFIED:20250318T150121Z
UID:10002416-1752739200-1752751800@whitesquirrelgolfclub.com
SUMMARY:Ladies' League
DESCRIPTION:Ladies’ League  \nBy Registration Only \n9 holes on Thursday mornings for fun\, socializing\, and friendly competition. You can choose to sign up with a foursome and keep the same foursome through the year\, or opt for one of our rotating groups that change weekly so you can golf with different people. 20 weeks of golf total. \n\nTee-times assigned for the season from 8:00AM-11:30AM\nTee-time requests will be honored based on time of registration\nStart: Thursday\, May 8th\nLeague Closing & Luncheon: Thursday\, Sept 18th 10:00AM Shotgun\nRegistration Fee:\n\n\n\nWhite Squirrel Club Members $49+hst\nPublic Players $509+hst\n\n\n\n\nMax 100 players
URL:https://whitesquirrelgolfclub.com/event/ladies-league/2025-07-17/
END:VEVENT
BEGIN:VEVENT
DTSTART;TZID=America/Toronto:20250717T180000
DTEND;TZID=America/Toronto:20250717T210000
DTSTAMP:20260425T062208
CREATED:20231124T201038Z
LAST-MODIFIED:20251211T193538Z
UID:10002441-1752775200-1752786000@whitesquirrelgolfclub.com
SUMMARY:Wing Night & Jam Session with Dustin SkySmith
DESCRIPTION:Join us every Thursday night with Dustin SkySmith! \nWing Special: $10 1LB | $20 2LBS \n 
URL:https://whitesquirrelgolfclub.com/event/wing-night-jam-session-with-dustin-skysmith/2025-07-17/
END:VEVENT
BEGIN:VEVENT
DTSTART;TZID=America/Toronto:20250718T120000
DTEND;TZID=America/Toronto:20250718T200000
DTSTAMP:20260425T062208
CREATED:20231124T201842Z
LAST-MODIFIED:20251211T194455Z
UID:10003150-1752840000-1752868800@whitesquirrelgolfclub.com
SUMMARY:Fish & Chips Friday
DESCRIPTION:Dine-In Only\, enjoy our Fish & Chips on special\, 1 pc/ $16 | 2/pc $22
URL:https://whitesquirrelgolfclub.com/event/fish-chips-friday/2025-07-18/
END:VEVENT
BEGIN:VEVENT
DTSTART;TZID=America/Toronto:20250719T180000
DTEND;TZID=America/Toronto:20250719T210000
DTSTAMP:20260425T062208
CREATED:20250102T194449Z
LAST-MODIFIED:20250721T125441Z
UID:10001595-1752948000-1752958800@whitesquirrelgolfclub.com
SUMMARY:Live Music Every Saturday Night
DESCRIPTION:
URL:https://whitesquirrelgolfclub.com/event/live-music-every-saturday-night-2/2025-07-19/
END:VEVENT
END:VCALENDAR