BEGIN:VCALENDAR
VERSION:2.0
PRODID:-//White Squirrel Golf Club &amp; Restaurant | Zurich, Ontario - ECPv6.15.17.1//NONSGML v1.0//EN
CALSCALE:GREGORIAN
METHOD:PUBLISH
X-WR-CALNAME:White Squirrel Golf Club &amp; Restaurant | Zurich, Ontario
X-ORIGINAL-URL:https://whitesquirrelgolfclub.com
X-WR-CALDESC:Events for White Squirrel Golf Club &amp; Restaurant | Zurich, Ontario
REFRESH-INTERVAL;VALUE=DURATION:PT1H
X-Robots-Tag:noindex
X-PUBLISHED-TTL:PT1H
BEGIN:VTIMEZONE
TZID:America/Toronto
BEGIN:DAYLIGHT
TZOFFSETFROM:-0500
TZOFFSETTO:-0400
TZNAME:EDT
DTSTART:20230312T070000
END:DAYLIGHT
BEGIN:STANDARD
TZOFFSETFROM:-0400
TZOFFSETTO:-0500
TZNAME:EST
DTSTART:20231105T060000
END:STANDARD
BEGIN:DAYLIGHT
TZOFFSETFROM:-0500
TZOFFSETTO:-0400
TZNAME:EDT
DTSTART:20240310T070000
END:DAYLIGHT
BEGIN:STANDARD
TZOFFSETFROM:-0400
TZOFFSETTO:-0500
TZNAME:EST
DTSTART:20241103T060000
END:STANDARD
BEGIN:DAYLIGHT
TZOFFSETFROM:-0500
TZOFFSETTO:-0400
TZNAME:EDT
DTSTART:20250309T070000
END:DAYLIGHT
BEGIN:STANDARD
TZOFFSETFROM:-0400
TZOFFSETTO:-0500
TZNAME:EST
DTSTART:20251102T060000
END:STANDARD
END:VTIMEZONE
BEGIN:VEVENT
DTSTART;TZID=America/Toronto:20240401T090000
DTEND;TZID=America/Toronto:20240401T170000
DTSTAMP:20260424T103116
CREATED:20240306T204506Z
LAST-MODIFIED:20240327T151022Z
UID:10001488-1711962000-1711990800@whitesquirrelgolfclub.com
SUMMARY:Spring Golf Clinic Registration Opens
DESCRIPTION:Our beginner and refresher golf clinics are back! Registration opens online from 9:00AM April 1st.\nClick HERE for more details on dates\, pricing\, and lesson packages or to register.
URL:https://whitesquirrelgolfclub.com/event/spring-golf-clinic-registration-opens/
LOCATION:Online Only\, N0M2T0\, Canada
END:VEVENT
BEGIN:VEVENT
DTSTART;TZID=America/Toronto:20240404T180000
DTEND;TZID=America/Toronto:20240404T210000
DTSTAMP:20260424T103116
CREATED:20231124T201038Z
LAST-MODIFIED:20251211T193538Z
UID:10001043-1712253600-1712264400@whitesquirrelgolfclub.com
SUMMARY:Wing Night & Jam Session with Dustin SkySmith
DESCRIPTION:Join us every Thursday night with Dustin SkySmith! \nWing Special: $10 1LB | $20 2LBS \n 
URL:https://whitesquirrelgolfclub.com/event/wing-night-jam-session-with-dustin-skysmith/2024-04-04/
END:VEVENT
BEGIN:VEVENT
DTSTART;TZID=America/Toronto:20240405T120000
DTEND;TZID=America/Toronto:20240405T200000
DTSTAMP:20260424T103116
CREATED:20231124T201842Z
LAST-MODIFIED:20251211T194455Z
UID:10003083-1712318400-1712347200@whitesquirrelgolfclub.com
SUMMARY:Fish & Chips Friday
DESCRIPTION:Dine-In Only\, enjoy our Fish & Chips on special\, 1 pc/ $16 | 2/pc $22
URL:https://whitesquirrelgolfclub.com/event/fish-chips-friday/2024-04-05/
END:VEVENT
BEGIN:VEVENT
DTSTART;TZID=America/Toronto:20240406T180000
DTEND;TZID=America/Toronto:20240406T210000
DTSTAMP:20260424T103116
CREATED:20231124T201229Z
LAST-MODIFIED:20241104T213205Z
UID:10001434-1712426400-1712437200@whitesquirrelgolfclub.com
SUMMARY:Live Music Every Saturday Night
DESCRIPTION:
URL:https://whitesquirrelgolfclub.com/event/live-music-every-saturday-night/2024-04-06/
END:VEVENT
BEGIN:VEVENT
DTSTART;TZID=America/Toronto:20240411T180000
DTEND;TZID=America/Toronto:20240411T210000
DTSTAMP:20260424T103116
CREATED:20231124T201038Z
LAST-MODIFIED:20251211T193538Z
UID:10001044-1712858400-1712869200@whitesquirrelgolfclub.com
SUMMARY:Wing Night & Jam Session with Dustin SkySmith
DESCRIPTION:Join us every Thursday night with Dustin SkySmith! \nWing Special: $10 1LB | $20 2LBS \n 
URL:https://whitesquirrelgolfclub.com/event/wing-night-jam-session-with-dustin-skysmith/2024-04-11/
END:VEVENT
BEGIN:VEVENT
DTSTART;TZID=America/Toronto:20240412T120000
DTEND;TZID=America/Toronto:20240412T200000
DTSTAMP:20260424T103116
CREATED:20231124T201842Z
LAST-MODIFIED:20251211T194455Z
UID:10003084-1712923200-1712952000@whitesquirrelgolfclub.com
SUMMARY:Fish & Chips Friday
DESCRIPTION:Dine-In Only\, enjoy our Fish & Chips on special\, 1 pc/ $16 | 2/pc $22
URL:https://whitesquirrelgolfclub.com/event/fish-chips-friday/2024-04-12/
END:VEVENT
BEGIN:VEVENT
DTSTART;TZID=America/Toronto:20240413T180000
DTEND;TZID=America/Toronto:20240413T210000
DTSTAMP:20260424T103116
CREATED:20231124T201229Z
LAST-MODIFIED:20241104T213205Z
UID:10001435-1713031200-1713042000@whitesquirrelgolfclub.com
SUMMARY:Live Music Every Saturday Night
DESCRIPTION:
URL:https://whitesquirrelgolfclub.com/event/live-music-every-saturday-night/2024-04-13/
END:VEVENT
BEGIN:VEVENT
DTSTART;TZID=America/Toronto:20240418T180000
DTEND;TZID=America/Toronto:20240418T210000
DTSTAMP:20260424T103116
CREATED:20231124T201038Z
LAST-MODIFIED:20251211T193538Z
UID:10001045-1713463200-1713474000@whitesquirrelgolfclub.com
SUMMARY:Wing Night & Jam Session with Dustin SkySmith
DESCRIPTION:Join us every Thursday night with Dustin SkySmith! \nWing Special: $10 1LB | $20 2LBS \n 
URL:https://whitesquirrelgolfclub.com/event/wing-night-jam-session-with-dustin-skysmith/2024-04-18/
END:VEVENT
BEGIN:VEVENT
DTSTART;TZID=America/Toronto:20240419T120000
DTEND;TZID=America/Toronto:20240419T200000
DTSTAMP:20260424T103116
CREATED:20231124T201842Z
LAST-MODIFIED:20251211T194455Z
UID:10003085-1713528000-1713556800@whitesquirrelgolfclub.com
SUMMARY:Fish & Chips Friday
DESCRIPTION:Dine-In Only\, enjoy our Fish & Chips on special\, 1 pc/ $16 | 2/pc $22
URL:https://whitesquirrelgolfclub.com/event/fish-chips-friday/2024-04-19/
END:VEVENT
BEGIN:VEVENT
DTSTART;TZID=America/Toronto:20240420T180000
DTEND;TZID=America/Toronto:20240420T210000
DTSTAMP:20260424T103116
CREATED:20231124T201229Z
LAST-MODIFIED:20241104T213205Z
UID:10001436-1713636000-1713646800@whitesquirrelgolfclub.com
SUMMARY:Live Music Every Saturday Night
DESCRIPTION:
URL:https://whitesquirrelgolfclub.com/event/live-music-every-saturday-night/2024-04-20/
END:VEVENT
BEGIN:VEVENT
DTSTART;TZID=America/Toronto:20240425T160000
DTEND;TZID=America/Toronto:20240425T180000
DTSTAMP:20260424T103116
CREATED:20240306T205312Z
LAST-MODIFIED:20240306T205312Z
UID:10001490-1714060800-1714068000@whitesquirrelgolfclub.com
SUMMARY:Ladies Sip n' Shop
DESCRIPTION:Join us from 4-6pm for a great social time and mixer! We’ll have a number of vendors\, a fully stocked proshop\, and some fun and games planned! This is a great chance to meet some fellow golfers and members of our ladies leagues. This event is open to everyone and has no cost.
URL:https://whitesquirrelgolfclub.com/event/ladies-sip-n-shop/
LOCATION:Acorn Patio – White Squirrel Golf Club\, 72538 Bluewater Highway\, Zurich\, Ontario\, N0M 2T0\, Canada
END:VEVENT
BEGIN:VEVENT
DTSTART;TZID=America/Toronto:20240425T180000
DTEND;TZID=America/Toronto:20240425T210000
DTSTAMP:20260424T103116
CREATED:20231124T201038Z
LAST-MODIFIED:20251211T193538Z
UID:10001046-1714068000-1714078800@whitesquirrelgolfclub.com
SUMMARY:Wing Night & Jam Session with Dustin SkySmith
DESCRIPTION:Join us every Thursday night with Dustin SkySmith! \nWing Special: $10 1LB | $20 2LBS \n 
URL:https://whitesquirrelgolfclub.com/event/wing-night-jam-session-with-dustin-skysmith/2024-04-25/
END:VEVENT
BEGIN:VEVENT
DTSTART;TZID=America/Toronto:20240426T120000
DTEND;TZID=America/Toronto:20240426T200000
DTSTAMP:20260424T103116
CREATED:20231124T201842Z
LAST-MODIFIED:20251211T194455Z
UID:10003086-1714132800-1714161600@whitesquirrelgolfclub.com
SUMMARY:Fish & Chips Friday
DESCRIPTION:Dine-In Only\, enjoy our Fish & Chips on special\, 1 pc/ $16 | 2/pc $22
URL:https://whitesquirrelgolfclub.com/event/fish-chips-friday/2024-04-26/
END:VEVENT
BEGIN:VEVENT
DTSTART;TZID=America/Toronto:20240427T180000
DTEND;TZID=America/Toronto:20240427T210000
DTSTAMP:20260424T103116
CREATED:20231124T201229Z
LAST-MODIFIED:20241104T213205Z
UID:10001437-1714240800-1714251600@whitesquirrelgolfclub.com
SUMMARY:Live Music Every Saturday Night
DESCRIPTION:
URL:https://whitesquirrelgolfclub.com/event/live-music-every-saturday-night/2024-04-27/
END:VEVENT
END:VCALENDAR