BEGIN:VCALENDAR
VERSION:2.0
PRODID:-//White Squirrel Golf Club &amp; Restaurant | Zurich, Ontario - ECPv6.15.17.1//NONSGML v1.0//EN
CALSCALE:GREGORIAN
METHOD:PUBLISH
X-WR-CALNAME:White Squirrel Golf Club &amp; Restaurant | Zurich, Ontario
X-ORIGINAL-URL:https://whitesquirrelgolfclub.com
X-WR-CALDESC:Events for White Squirrel Golf Club &amp; Restaurant | Zurich, Ontario
REFRESH-INTERVAL;VALUE=DURATION:PT1H
X-Robots-Tag:noindex
X-PUBLISHED-TTL:PT1H
BEGIN:VTIMEZONE
TZID:America/Toronto
BEGIN:DAYLIGHT
TZOFFSETFROM:-0500
TZOFFSETTO:-0400
TZNAME:EDT
DTSTART:20250309T070000
END:DAYLIGHT
BEGIN:STANDARD
TZOFFSETFROM:-0400
TZOFFSETTO:-0500
TZNAME:EST
DTSTART:20251102T060000
END:STANDARD
BEGIN:DAYLIGHT
TZOFFSETFROM:-0500
TZOFFSETTO:-0400
TZNAME:EDT
DTSTART:20260308T070000
END:DAYLIGHT
BEGIN:STANDARD
TZOFFSETFROM:-0400
TZOFFSETTO:-0500
TZNAME:EST
DTSTART:20261101T060000
END:STANDARD
BEGIN:DAYLIGHT
TZOFFSETFROM:-0500
TZOFFSETTO:-0400
TZNAME:EDT
DTSTART:20270314T070000
END:DAYLIGHT
BEGIN:STANDARD
TZOFFSETFROM:-0400
TZOFFSETTO:-0500
TZNAME:EST
DTSTART:20271107T060000
END:STANDARD
END:VTIMEZONE
BEGIN:VEVENT
DTSTART;TZID=America/Toronto:20260504T074500
DTEND;TZID=America/Toronto:20260504T120000
DTSTAMP:20260425T063258
CREATED:20260325T231108Z
LAST-MODIFIED:20260326T170901Z
UID:10001848-1777880700-1777896000@whitesquirrelgolfclub.com
SUMMARY:Senior Men's League Opening
DESCRIPTION:Senior Men’s League \nBy Registration Only\, Registration deadline April 15th. Register Here. \n9 holes on Monday mornings for fun\, socializing\, and friendly competition. Foursomes change weekly so you can golf with different people. 19 weeks of golf total. \n\nTee-times assigned weekly from 7:45AM-12:00PM\nIndicate by the Wednesday before if you are not playing the following Monday\nStart: Monday\, May 4th\nClosing: Monday\, Sept. 21st 10:00AM Shotgun\nMax 120 Players
URL:https://whitesquirrelgolfclub.com/event/senior-mens-league-2/
END:VEVENT
END:VCALENDAR